{"text_format":"1","workbook":"xlsx","n_sheets":2,"sheets":["Conversión","Factores"],"not_rendered":{"charts":0,"images":0,"macros":1,"external_links":0,"defined_names":36,"comments":0,"pivot_tables":0},"unopened":[],"bounds":{"document_bytes":16777216,"sheet_cells":100000,"rows_first":2000,"rows_last":500,"rows_between":2000,"halvings":0,"cell_chars":16384,"cell_head_chars":4096},"cells_cut":0,"cells_raw":0,"read":"whole","date_system":"1900"}

{"sheet":"Conversión","index":0,"n_rows":195,"n_cols":24,"rows_kept":195,"cut":false,"hidden":false,"merged":[]}
[]
[null,"Contador",null,"Parámetro","Nombre","Unidades","Nombre","Unidades","Nombre","Unidades","Nombre","Unidades","Nombre","Unidades","Nombre","Unidades","Nombre","Unidades","Nombre","Unidades","Nombre","Unidades","Nombre","Unidades"]
[]
[null,1,null,"Aceleración",{"$f":"+Factores!E4","v":"m/s2"},null,{"$f":"+$E4","v":"m/s2"},null,{"$f":"+$E4","v":"m/s2"},null,{"$f":"+$E4","v":"m/s2"},null,{"$f":"+$E4","v":"m/s2"},null,{"$f":"+$E4","v":"m/s2"},null,{"$f":"+$E4","v":"m/s2"},null,{"$f":"+$E4","v":"m/s2"},null,{"$f":"+$E4","v":"m/s2"},null,{"$f":"+$E4","v":"m/s2"}]
[null,1]
[null,1,null,"Unidad a Convertir",12,"in/s2",12,"in/s2",12,"in/s2",12,"in/s2",12,"in/s2",12,"in/s2",12,"in/s2",12,"in/s2",12,"in/s2",12,"in/s2"]
[null,1,null,"Unidad SI",{"$f":"+utosi(E6,F6)","v":0.30479999999967083},{"$f":"+$E4","v":"m/s2"},{"$f":"+utosi(G6,H6)","v":0.30479999999967083},{"$f":"+$E4","v":"m/s2"},{"$f":"+utosi(I6,J6)","v":0.30479999999967083},{"$f":"+$E4","v":"m/s2"},{"$f":"+utosi(K6,L6)","v":0.30479999999967083},{"$f":"+$E4","v":"m/s2"},{"$f":"+utosi(M6,N6)","v":0.30479999999967083},{"$f":"+$E4","v":"m/s2"},{"$f":"+utosi(O6,P6)","v":0.30479999999967083},{"$f":"+$E4","v":"m/s2"},{"$f":"+utosi(Q6,R6)","v":0.30479999999967083},{"$f":"+$E4","v":"m/s2"},{"$f":"+utosi(S6,T6)","v":0.30479999999967083},{"$f":"+$E4","v":"m/s2"},{"$f":"+utosi(U6,V6)","v":0.30479999999967083},{"$f":"+$E4","v":"m/s2"},{"$f":"+utosi(W6,X6)","v":0.30479999999967083},{"$f":"+$E4","v":"m/s2"}]
[null,1,null,"Unidad Convertida",{"$f":"+utou(F6,F8,E6)","v":0.99999999999891998},"ft/s2",{"$f":"+utou(H6,H8,G6)","v":0.99999999999891998},"ft/s2",{"$f":"+utou(J6,J8,I6)","v":0.99999999999891998},"ft/s2",{"$f":"+utou(L6,L8,K6)","v":0.99999999999891998},"ft/s2",{"$f":"+utou(N6,N8,M6)","v":0.99999999999891998},"ft/s2",{"$f":"+utou(P6,P8,O6)","v":0.99999999999891998},"ft/s2",{"$f":"+utou(R6,R8,Q6)","v":0.99999999999891998},"ft/s2",{"$f":"+utou(T6,T8,S6)","v":0.99999999999891998},"ft/s2",{"$f":"+utou(V6,V8,U6)","v":0.99999999999891998},"ft/s2",{"$f":"+utou(X6,X8,W6)","v":0.99999999999891998},"ft/s2"]
[null,1]
[null,2,null,"Ángulo",{"$f":"+Factores!E9","v":"rad"},null,{"$f":"+$E10","v":"rad"},null,{"$f":"+$E10","v":"rad"},null,{"$f":"+$E10","v":"rad"},null,{"$f":"+$E10","v":"rad"},null,{"$f":"+$E10","v":"rad"},null,{"$f":"+$E10","v":"rad"},null,{"$f":"+$E10","v":"rad"},null,{"$f":"+$E10","v":"rad"},null,{"$f":"+$E10","v":"rad"}]
[null,2]
[null,2,null,"Unidad a Convertir",12,null,12,null,12,null,12,null,12,null,12,null,12,null,12,null,12,null,12]
[null,2,null,"Unidad SI",{"$f":"+utosi(E12,F12)","v":{"$error":"#VALUE!"}},{"$f":"+$E10","v":"rad"},{"$f":"+utosi(G12,H12)","v":{"$error":"#VALUE!"}},{"$f":"+$E10","v":"rad"},{"$f":"+utosi(I12,J12)","v":{"$error":"#VALUE!"}},{"$f":"+$E10","v":"rad"},{"$f":"+utosi(K12,L12)","v":{"$error":"#VALUE!"}},{"$f":"+$E10","v":"rad"},{"$f":"+utosi(M12,N12)","v":{"$error":"#VALUE!"}},{"$f":"+$E10","v":"rad"},{"$f":"+utosi(O12,P12)","v":{"$error":"#VALUE!"}},{"$f":"+$E10","v":"rad"},{"$f":"+utosi(Q12,R12)","v":{"$error":"#VALUE!"}},{"$f":"+$E10","v":"rad"},{"$f":"+utosi(S12,T12)","v":{"$error":"#VALUE!"}},{"$f":"+$E10","v":"rad"},{"$f":"+utosi(U12,V12)","v":{"$error":"#VALUE!"}},{"$f":"+$E10","v":"rad"},{"$f":"+utosi(W12,X12)","v":{"$error":"#VALUE!"}},{"$f":"+$E10","v":"rad"}]
[null,2,null,"Unidad Convertida",{"$f":"+utou(F12,F14,E12)","v":{"$error":"#VALUE!"}},null,{"$f":"+utou(H12,H14,G12)","v":{"$error":"#VALUE!"}},null,{"$f":"+utou(J12,J14,I12)","v":{"$error":"#VALUE!"}},null,{"$f":"+utou(L12,L14,K12)","v":{"$error":"#VALUE!"}},null,{"$f":"+utou(N12,N14,M12)","v":{"$error":"#VALUE!"}},null,{"$f":"+utou(P12,P14,O12)","v":{"$error":"#VALUE!"}},null,{"$f":"+utou(R12,R14,Q12)","v":{"$error":"#VALUE!"}},null,{"$f":"+utou(T12,T14,S12)","v":{"$error":"#VALUE!"}},null,{"$f":"+utou(V12,V14,U12)","v":{"$error":"#VALUE!"}},null,{"$f":"+utou(X12,X14,W12)","v":{"$error":"#VALUE!"}}]
[null,2]
[null,3,null,"Área",{"$f":"+Factores!E14","v":"m2"},null,{"$f":"+$E16","v":"m2"},null,{"$f":"+$E16","v":"m2"},null,{"$f":"+$E16","v":"m2"},null,{"$f":"+$E16","v":"m2"},null,{"$f":"+$E16","v":"m2"},null,{"$f":"+$E16","v":"m2"},null,{"$f":"+$E16","v":"m2"},null,{"$f":"+$E16","v":"m2"},null,{"$f":"+$E16","v":"m2"}]
[null,3]
[null,3,null,"Unidad a Convertir",12,null,12,null,12,null,12,null,12,null,12,null,12,null,12,null,12,null,12]
[null,3,null,"Unidad SI",{"$f":"+utosi(E18,F18)","v":{"$error":"#VALUE!"}},{"$f":"+$E16","v":"m2"},{"$f":"+utosi(G18,H18)","v":{"$error":"#VALUE!"}},{"$f":"+$E16","v":"m2"},{"$f":"+utosi(I18,J18)","v":{"$error":"#VALUE!"}},{"$f":"+$E16","v":"m2"},{"$f":"+utosi(K18,L18)","v":{"$error":"#VALUE!"}},{"$f":"+$E16","v":"m2"},{"$f":"+utosi(M18,N18)","v":{"$error":"#VALUE!"}},{"$f":"+$E16","v":"m2"},{"$f":"+utosi(O18,P18)","v":{"$error":"#VALUE!"}},{"$f":"+$E16","v":"m2"},{"$f":"+utosi(Q18,R18)","v":{"$error":"#VALUE!"}},{"$f":"+$E16","v":"m2"},{"$f":"+utosi(S18,T18)","v":{"$error":"#VALUE!"}},{"$f":"+$E16","v":"m2"},{"$f":"+utosi(U18,V18)","v":{"$error":"#VALUE!"}},{"$f":"+$E16","v":"m2"},{"$f":"+utosi(W18,X18)","v":{"$error":"#VALUE!"}},{"$f":"+$E16","v":"m2"}]
[null,3,null,"Unidad Convertida",{"$f":"+utou(F18,F20,E18)","v":{"$error":"#VALUE!"}},null,{"$f":"+utou(H18,H20,G18)","v":{"$error":"#VALUE!"}},null,{"$f":"+utou(J18,J20,I18)","v":{"$error":"#VALUE!"}},null,{"$f":"+utou(L18,L20,K18)","v":{"$error":"#VALUE!"}},null,{"$f":"+utou(N18,N20,M18)","v":{"$error":"#VALUE!"}},null,{"$f":"+utou(P18,P20,O18)","v":{"$error":"#VALUE!"}},null,{"$f":"+utou(R18,R20,Q18)","v":{"$error":"#VALUE!"}},null,{"$f":"+utou(T18,T20,S18)","v":{"$error":"#VALUE!"}},null,{"$f":"+utou(V18,V20,U18)","v":{"$error":"#VALUE!"}},null,{"$f":"+utou(X18,X20,W18)","v":{"$error":"#VALUE!"}}]
[null,3]
[null,4,null,"Calor Específico",{"$f":"+Factores!E26","v":"J/(kg K)"},null,{"$f":"+$E22","v":"J/(kg K)"},null,{"$f":"+$E22","v":"J/(kg K)"},null,{"$f":"+$E22","v":"J/(kg K)"},null,{"$f":"+$E22","v":"J/(kg K)"},null,{"$f":"+$E22","v":"J/(kg K)"},null,{"$f":"+$E22","v":"J/(kg K)"},null,{"$f":"+$E22","v":"J/(kg K)"},null,{"$f":"+$E22","v":"J/(kg K)"},null,{"$f":"+$E22","v":"J/(kg K)"}]
[null,4]
[null,4,null,"Unidad a Convertir",12,null,12,null,12,null,12,null,12,null,12,null,12,null,12,null,12,null,12]
[null,4,null,"Unidad SI",{"$f":"+utosi(E24,F24)","v":{"$error":"#VALUE!"}},{"$f":"+$E22","v":"J/(kg K)"},{"$f":"+utosi(G24,H24)","v":{"$error":"#VALUE!"}},{"$f":"+$E22","v":"J/(kg K)"},{"$f":"+utosi(I24,J24)","v":{"$error":"#VALUE!"}},{"$f":"+$E22","v":"J/(kg K)"},{"$f":"+utosi(K24,L24)","v":{"$error":"#VALUE!"}},{"$f":"+$E22","v":"J/(kg K)"},{"$f":"+utosi(M24,N24)","v":{"$error":"#VALUE!"}},{"$f":"+$E22","v":"J/(kg K)"},{"$f":"+utosi(O24,P24)","v":{"$error":"#VALUE!"}},{"$f":"+$E22","v":"J/(kg K)"},{"$f":"+utosi(Q24,R24)","v":{"$error":"#VALUE!"}},{"$f":"+$E22","v":"J/(kg K)"},{"$f":"+utosi(S24,T24)","v":{"$error":"#VALUE!"}},{"$f":"+$E22","v":"J/(kg K)"},{"$f":"+utosi(U24,V24)","v":{"$error":"#VALUE!"}},{"$f":"+$E22","v":"J/(kg K)"},{"$f":"+utosi(W24,X24)","v":{"$error":"#VALUE!"}},{"$f":"+$E22","v":"J/(kg K)"}]
[null,4,null,"Unidad Convertida",{"$f":"+utou(F24,F26,E24)","v":{"$error":"#VALUE!"}},null,{"$f":"+utou(H24,H26,G24)","v":{"$error":"#VALUE!"}},null,{"$f":"+utou(J24,J26,I24)","v":{"$error":"#VALUE!"}},null,{"$f":"+utou(L24,L26,K24)","v":{"$error":"#VALUE!"}},null,{"$f":"+utou(N24,N26,M24)","v":{"$error":"#VALUE!"}},null,{"$f":"+utou(P24,P26,O24)","v":{"$error":"#VALUE!"}},null,{"$f":"+utou(R24,R26,Q24)","v":{"$error":"#VALUE!"}},null,{"$f":"+utou(T24,T26,S24)","v":{"$error":"#VALUE!"}},null,{"$f":"+utou(V24,V26,U24)","v":{"$error":"#VALUE!"}},null,{"$f":"+utou(X24,X26,W24)","v":{"$error":"#VALUE!"}}]
[null,4]
[null,5,null,"Caudal Másico",{"$f":"+Factores!E30","v":"kg/s"},null,{"$f":"+$E28","v":"kg/s"},null,{"$f":"+$E28","v":"kg/s"},null,{"$f":"+$E28","v":"kg/s"},null,{"$f":"+$E28","v":"kg/s"},null,{"$f":"+$E28","v":"kg/s"},null,{"$f":"+$E28","v":"kg/s"},null,{"$f":"+$E28","v":"kg/s"},null,{"$f":"+$E28","v":"kg/s"},null,{"$f":"+$E28","v":"kg/s"}]
[null,5]
[null,5,null,"Unidad a Convertir",12,null,12,null,12,null,12,null,12,null,12,null,12,null,12,null,12,null,12]
[null,5,null,"Unidad SI",{"$f":"+utosi(E30,F30)","v":{"$error":"#VALUE!"}},{"$f":"+$E28","v":"kg/s"},{"$f":"+utosi(G30,H30)","v":{"$error":"#VALUE!"}},{"$f":"+$E28","v":"kg/s"},{"$f":"+utosi(I30,J30)","v":{"$error":"#VALUE!"}},{"$f":"+$E28","v":"kg/s"},{"$f":"+utosi(K30,L30)","v":{"$error":"#VALUE!"}},{"$f":"+$E28","v":"kg/s"},{"$f":"+utosi(M30,N30)","v":{"$error":"#VALUE!"}},{"$f":"+$E28","v":"kg/s"},{"$f":"+utosi(O30,P30)","v":{"$error":"#VALUE!"}},{"$f":"+$E28","v":"kg/s"},{"$f":"+utosi(Q30,R30)","v":{"$error":"#VALUE!"}},{"$f":"+$E28","v":"kg/s"},{"$f":"+utosi(S30,T30)","v":{"$error":"#VALUE!"}},{"$f":"+$E28","v":"kg/s"},{"$f":"+utosi(U30,V30)","v":{"$error":"#VALUE!"}},{"$f":"+$E28","v":"kg/s"},{"$f":"+utosi(W30,X30)","v":{"$error":"#VALUE!"}},{"$f":"+$E28","v":"kg/s"}]
[null,5,null,"Unidad Convertida",{"$f":"+utou(F30,F32,E30)","v":{"$error":"#VALUE!"}},null,{"$f":"+utou(H30,H32,G30)","v":{"$error":"#VALUE!"}},null,{"$f":"+utou(J30,J32,I30)","v":{"$error":"#VALUE!"}},null,{"$f":"+utou(L30,L32,K30)","v":{"$error":"#VALUE!"}},null,{"$f":"+utou(N30,N32,M30)","v":{"$error":"#VALUE!"}},null,{"$f":"+utou(P30,P32,O30)","v":{"$error":"#VALUE!"}},null,{"$f":"+utou(R30,R32,Q30)","v":{"$error":"#VALUE!"}},null,{"$f":"+utou(T30,T32,S30)","v":{"$error":"#VALUE!"}},null,{"$f":"+utou(V30,V32,U30)","v":{"$error":"#VALUE!"}},null,{"$f":"+utou(X30,X32,W30)","v":{"$error":"#VALUE!"}}]
[null,5]
[null,6,null,"Caudal Molar",{"$f":"+Factores!E40","v":"mol/s"},null,{"$f":"+$E34","v":"mol/s"},null,{"$f":"+$E34","v":"mol/s"},null,{"$f":"+$E34","v":"mol/s"},null,{"$f":"+$E34","v":"mol/s"},null,{"$f":"+$E34","v":"mol/s"},null,{"$f":"+$E34","v":"mol/s"},null,{"$f":"+$E34","v":"mol/s"},null,{"$f":"+$E34","v":"mol/s"},null,{"$f":"+$E34","v":"mol/s"}]
[null,6]
[null,6,null,"Unidad a Convertir",12,null,12,null,12,null,12,null,12,null,12,null,12,null,12,null,12,null,12]
[null,6,null,"Unidad SI",{"$f":"+utosi(E36,F36)","v":{"$error":"#VALUE!"}},{"$f":"+$E34","v":"mol/s"},{"$f":"+utosi(G36,H36)","v":{"$error":"#VALUE!"}},{"$f":"+$E34","v":"mol/s"},{"$f":"+utosi(I36,J36)","v":{"$error":"#VALUE!"}},{"$f":"+$E34","v":"mol/s"},{"$f":"+utosi(K36,L36)","v":{"$error":"#VALUE!"}},{"$f":"+$E34","v":"mol/s"},{"$f":"+utosi(M36,N36)","v":{"$error":"#VALUE!"}},{"$f":"+$E34","v":"mol/s"},{"$f":"+utosi(O36,P36)","v":{"$error":"#VALUE!"}},{"$f":"+$E34","v":"mol/s"},{"$f":"+utosi(Q36,R36)","v":{"$error":"#VALUE!"}},{"$f":"+$E34","v":"mol/s"},{"$f":"+utosi(S36,T36)","v":{"$error":"#VALUE!"}},{"$f":"+$E34","v":"mol/s"},{"$f":"+utosi(U36,V36)","v":{"$error":"#VALUE!"}},{"$f":"+$E34","v":"mol/s"},{"$f":"+utosi(W36,X36)","v":{"$error":"#VALUE!"}},{"$f":"+$E34","v":"mol/s"}]
[null,6,null,"Unidad Convertida",{"$f":"+utou(F36,F38,E36)","v":{"$error":"#VALUE!"}},null,{"$f":"+utou(H36,H38,G36)","v":{"$error":"#VALUE!"}},null,{"$f":"+utou(J36,J38,I36)","v":{"$error":"#VALUE!"}},null,{"$f":"+utou(L36,L38,K36)","v":{"$error":"#VALUE!"}},null,{"$f":"+utou(N36,N38,M36)","v":{"$error":"#VALUE!"}},null,{"$f":"+utou(P36,P38,O36)","v":{"$error":"#VALUE!"}},null,{"$f":"+utou(R36,R38,Q36)","v":{"$error":"#VALUE!"}},null,{"$f":"+utou(T36,T38,S36)","v":{"$error":"#VALUE!"}},null,{"$f":"+utou(V36,V38,U36)","v":{"$error":"#VALUE!"}},null,{"$f":"+utou(X36,X38,W36)","v":{"$error":"#VALUE!"}}]
[null,6]
[null,7,null,"Caudal Volumétrico",{"$f":"+Factores!E50","v":"m3/s"},null,{"$f":"+$E40","v":"m3/s"},null,{"$f":"+$E40","v":"m3/s"},null,{"$f":"+$E40","v":"m3/s"},null,{"$f":"+$E40","v":"m3/s"},null,{"$f":"+$E40","v":"m3/s"},null,{"$f":"+$E40","v":"m3/s"},null,{"$f":"+$E40","v":"m3/s"},null,{"$f":"+$E40","v":"m3/s"},null,{"$f":"+$E40","v":"m3/s"}]
[null,7]
[null,7,null,"Unidad a Convertir",12,null,12,null,12,null,12,null,12,null,12,null,12,null,12,null,12,null,12]
[null,7,null,"Unidad SI",{"$f":"+utosi(E42,F42)","v":{"$error":"#VALUE!"}},{"$f":"+$E40","v":"m3/s"},{"$f":"+utosi(G42,H42)","v":{"$error":"#VALUE!"}},{"$f":"+$E40","v":"m3/s"},{"$f":"+utosi(I42,J42)","v":{"$error":"#VALUE!"}},{"$f":"+$E40","v":"m3/s"},{"$f":"+utosi(K42,L42)","v":{"$error":"#VALUE!"}},{"$f":"+$E40","v":"m3/s"},{"$f":"+utosi(M42,N42)","v":{"$error":"#VALUE!"}},{"$f":"+$E40","v":"m3/s"},{"$f":"+utosi(O42,P42)","v":{"$error":"#VALUE!"}},{"$f":"+$E40","v":"m3/s"},{"$f":"+utosi(Q42,R42)","v":{"$error":"#VALUE!"}},{"$f":"+$E40","v":"m3/s"},{"$f":"+utosi(S42,T42)","v":{"$error":"#VALUE!"}},{"$f":"+$E40","v":"m3/s"},{"$f":"+utosi(U42,V42)","v":{"$error":"#VALUE!"}},{"$f":"+$E40","v":"m3/s"},{"$f":"+utosi(W42,X42)","v":{"$error":"#VALUE!"}},{"$f":"+$E40","v":"m3/s"}]
[null,7,null,"Unidad Convertida",{"$f":"+utou(F42,F44,E42)","v":{"$error":"#VALUE!"}},null,{"$f":"+utou(H42,H44,G42)","v":{"$error":"#VALUE!"}},null,{"$f":"+utou(J42,J44,I42)","v":{"$error":"#VALUE!"}},null,{"$f":"+utou(L42,L44,K42)","v":{"$error":"#VALUE!"}},null,{"$f":"+utou(N42,N44,M42)","v":{"$error":"#VALUE!"}},null,{"$f":"+utou(P42,P44,O42)","v":{"$error":"#VALUE!"}},null,{"$f":"+utou(R42,R44,Q42)","v":{"$error":"#VALUE!"}},null,{"$f":"+utou(T42,T44,S42)","v":{"$error":"#VALUE!"}},null,{"$f":"+utou(V42,V44,U42)","v":{"$error":"#VALUE!"}},null,{"$f":"+utou(X42,X44,W42)","v":{"$error":"#VALUE!"}}]
[null,7]
[null,8,null,"Coeficiente de Flujo de Válvula (CV)",{"$f":"+Factores!E66","v":"(Pa^-0,5)m3/s"},null,{"$f":"+$E46","v":"(Pa^-0,5)m3/s"},null,{"$f":"+$E46","v":"(Pa^-0,5)m3/s"},null,{"$f":"+$E46","v":"(Pa^-0,5)m3/s"},null,{"$f":"+$E46","v":"(Pa^-0,5)m3/s"},null,{"$f":"+$E46","v":"(Pa^-0,5)m3/s"},null,{"$f":"+$E46","v":"(Pa^-0,5)m3/s"},null,{"$f":"+$E46","v":"(Pa^-0,5)m3/s"},null,{"$f":"+$E46","v":"(Pa^-0,5)m3/s"},null,{"$f":"+$E46","v":"(Pa^-0,5)m3/s"}]
[null,8]
[null,8,null,"Unidad a Convertir",12,null,12,null,12,null,12,null,12,null,12,null,12,null,12,null,12,null,12]
[null,8,null,"Unidad SI",{"$f":"+utosi(E48,F48)","v":{"$error":"#VALUE!"}},{"$f":"+$E46","v":"(Pa^-0,5)m3/s"},{"$f":"+utosi(G48,H48)","v":{"$error":"#VALUE!"}},{"$f":"+$E46","v":"(Pa^-0,5)m3/s"},{"$f":"+utosi(I48,J48)","v":{"$error":"#VALUE!"}},{"$f":"+$E46","v":"(Pa^-0,5)m3/s"},{"$f":"+utosi(K48,L48)","v":{"$error":"#VALUE!"}},{"$f":"+$E46","v":"(Pa^-0,5)m3/s"},{"$f":"+utosi(M48,N48)","v":{"$error":"#VALUE!"}},{"$f":"+$E46","v":"(Pa^-0,5)m3/s"},{"$f":"+utosi(O48,P48)","v":{"$error":"#VALUE!"}},{"$f":"+$E46","v":"(Pa^-0,5)m3/s"},{"$f":"+utosi(Q48,R48)","v":{"$error":"#VALUE!"}},{"$f":"+$E46","v":"(Pa^-0,5)m3/s"},{"$f":"+utosi(S48,T48)","v":{"$error":"#VALUE!"}},{"$f":"+$E46","v":"(Pa^-0,5)m3/s"},{"$f":"+utosi(U48,V48)","v":{"$error":"#VALUE!"}},{"$f":"+$E46","v":"(Pa^-0,5)m3/s"},{"$f":"+utosi(W48,X48)","v":{"$error":"#VALUE!"}},{"$f":"+$E46","v":"(Pa^-0,5)m3/s"}]
[null,8,null,"Unidad Convertida",{"$f":"+utou(F48,F50,E48)","v":{"$error":"#VALUE!"}},null,{"$f":"+utou(H48,H50,G48)","v":{"$error":"#VALUE!"}},null,{"$f":"+utou(J48,J50,I48)","v":{"$error":"#VALUE!"}},null,{"$f":"+utou(L48,L50,K48)","v":{"$error":"#VALUE!"}},null,{"$f":"+utou(N48,N50,M48)","v":{"$error":"#VALUE!"}},null,{"$f":"+utou(P48,P50,O48)","v":{"$error":"#VALUE!"}},null,{"$f":"+utou(R48,R50,Q48)","v":{"$error":"#VALUE!"}},null,{"$f":"+utou(T48,T50,S48)","v":{"$error":"#VALUE!"}},null,{"$f":"+utou(V48,V50,U48)","v":{"$error":"#VALUE!"}},null,{"$f":"+utou(X48,X50,W48)","v":{"$error":"#VALUE!"}}]
[null,8]
[null,9,null,"Coeficiente de Transferencia de Calor",{"$f":"+Factores!E71","v":"W/(m2 K)"},null,{"$f":"+$E52","v":"W/(m2 K)"},null,{"$f":"+$E52","v":"W/(m2 K)"},null,{"$f":"+$E52","v":"W/(m2 K)"},null,{"$f":"+$E52","v":"W/(m2 K)"},null,{"$f":"+$E52","v":"W/(m2 K)"},null,{"$f":"+$E52","v":"W/(m2 K)"},null,{"$f":"+$E52","v":"W/(m2 K)"},null,{"$f":"+$E52","v":"W/(m2 K)"},null,{"$f":"+$E52","v":"W/(m2 K)"}]
[null,9]
[null,9,null,"Unidad a Convertir",12,null,12,null,12,null,12,null,12,null,12,null,12,null,12,null,12,null,12]
[null,9,null,"Unidad SI",{"$f":"+utosi(E54,F54)","v":{"$error":"#VALUE!"}},{"$f":"+$E52","v":"W/(m2 K)"},{"$f":"+utosi(G54,H54)","v":{"$error":"#VALUE!"}},{"$f":"+$E52","v":"W/(m2 K)"},{"$f":"+utosi(I54,J54)","v":{"$error":"#VALUE!"}},{"$f":"+$E52","v":"W/(m2 K)"},{"$f":"+utosi(K54,L54)","v":{"$error":"#VALUE!"}},{"$f":"+$E52","v":"W/(m2 K)"},{"$f":"+utosi(M54,N54)","v":{"$error":"#VALUE!"}},{"$f":"+$E52","v":"W/(m2 K)"},{"$f":"+utosi(O54,P54)","v":{"$error":"#VALUE!"}},{"$f":"+$E52","v":"W/(m2 K)"},{"$f":"+utosi(Q54,R54)","v":{"$error":"#VALUE!"}},{"$f":"+$E52","v":"W/(m2 K)"},{"$f":"+utosi(S54,T54)","v":{"$error":"#VALUE!"}},{"$f":"+$E52","v":"W/(m2 K)"},{"$f":"+utosi(U54,V54)","v":{"$error":"#VALUE!"}},{"$f":"+$E52","v":"W/(m2 K)"},{"$f":"+utosi(W54,X54)","v":{"$error":"#VALUE!"}},{"$f":"+$E52","v":"W/(m2 K)"}]
[null,9,null,"Unidad Convertida",{"$f":"+utou(F54,F56,E54)","v":{"$error":"#VALUE!"}},null,{"$f":"+utou(H54,H56,G54)","v":{"$error":"#VALUE!"}},null,{"$f":"+utou(J54,J56,I54)","v":{"$error":"#VALUE!"}},null,{"$f":"+utou(L54,L56,K54)","v":{"$error":"#VALUE!"}},null,{"$f":"+utou(N54,N56,M54)","v":{"$error":"#VALUE!"}},null,{"$f":"+utou(P54,P56,O54)","v":{"$error":"#VALUE!"}},null,{"$f":"+utou(R54,R56,Q54)","v":{"$error":"#VALUE!"}},null,{"$f":"+utou(T54,T56,S54)","v":{"$error":"#VALUE!"}},null,{"$f":"+utou(V54,V56,U54)","v":{"$error":"#VALUE!"}},null,{"$f":"+utou(X54,X56,W54)","v":{"$error":"#VALUE!"}}]
[null,9]
[null,10,null,"Conductividad Térmica",{"$f":"+Factores!E76","v":"W/(m K)"},null,{"$f":"+$E58","v":"W/(m K)"},null,{"$f":"+$E58","v":"W/(m K)"},null,{"$f":"+$E58","v":"W/(m K)"},null,{"$f":"+$E58","v":"W/(m K)"},null,{"$f":"+$E58","v":"W/(m K)"},null,{"$f":"+$E58","v":"W/(m K)"},null,{"$f":"+$E58","v":"W/(m K)"},null,{"$f":"+$E58","v":"W/(m K)"},null,{"$f":"+$E58","v":"W/(m K)"}]
[null,10]
[null,10,null,"Unidad a Convertir",12,null,12,null,12,null,12,null,12,null,12,null,12,null,12,null,12,null,12]
[null,10,null,"Unidad SI",{"$f":"+utosi(E60,F60)","v":{"$error":"#VALUE!"}},{"$f":"+$E58","v":"W/(m K)"},{"$f":"+utosi(G60,H60)","v":{"$error":"#VALUE!"}},{"$f":"+$E58","v":"W/(m K)"},{"$f":"+utosi(I60,J60)","v":{"$error":"#VALUE!"}},{"$f":"+$E58","v":"W/(m K)"},{"$f":"+utosi(K60,L60)","v":{"$error":"#VALUE!"}},{"$f":"+$E58","v":"W/(m K)"},{"$f":"+utosi(M60,N60)","v":{"$error":"#VALUE!"}},{"$f":"+$E58","v":"W/(m K)"},{"$f":"+utosi(O60,P60)","v":{"$error":"#VALUE!"}},{"$f":"+$E58","v":"W/(m K)"},{"$f":"+utosi(Q60,R60)","v":{"$error":"#VALUE!"}},{"$f":"+$E58","v":"W/(m K)"},{"$f":"+utosi(S60,T60)","v":{"$error":"#VALUE!"}},{"$f":"+$E58","v":"W/(m K)"},{"$f":"+utosi(U60,V60)","v":{"$error":"#VALUE!"}},{"$f":"+$E58","v":"W/(m K)"},{"$f":"+utosi(W60,X60)","v":{"$error":"#VALUE!"}},{"$f":"+$E58","v":"W/(m K)"}]
[null,10,null,"Unidad Convertida",{"$f":"+utou(F60,F62,E60)","v":{"$error":"#VALUE!"}},null,{"$f":"+utou(H60,H62,G60)","v":{"$error":"#VALUE!"}},null,{"$f":"+utou(J60,J62,I60)","v":{"$error":"#VALUE!"}},null,{"$f":"+utou(L60,L62,K60)","v":{"$error":"#VALUE!"}},null,{"$f":"+utou(N60,N62,M60)","v":{"$error":"#VALUE!"}},null,{"$f":"+utou(P60,P62,O60)","v":{"$error":"#VALUE!"}},null,{"$f":"+utou(R60,R62,Q60)","v":{"$error":"#VALUE!"}},null,{"$f":"+utou(T60,T62,S60)","v":{"$error":"#VALUE!"}},null,{"$f":"+utou(V60,V62,U60)","v":{"$error":"#VALUE!"}},null,{"$f":"+utou(X60,X62,W60)","v":{"$error":"#VALUE!"}}]
[null,10]
[null,11,null,"Densidad",{"$f":"+Factores!E82","v":"kg/m3"},null,{"$f":"+$E64","v":"kg/m3"},null,{"$f":"+$E64","v":"kg/m3"},null,{"$f":"+$E64","v":"kg/m3"},null,{"$f":"+$E64","v":"kg/m3"},null,{"$f":"+$E64","v":"kg/m3"},null,{"$f":"+$E64","v":"kg/m3"},null,{"$f":"+$E64","v":"kg/m3"},null,{"$f":"+$E64","v":"kg/m3"},null,{"$f":"+$E64","v":"kg/m3"}]
[null,11]
[null,11,null,"Unidad a Convertir",12,null,12,null,12,null,12,null,12,null,12,null,12,null,12,null,12,null,12]
[null,11,null,"Unidad SI",{"$f":"+utosi(E66,F66)","v":{"$error":"#VALUE!"}},{"$f":"+$E64","v":"kg/m3"},{"$f":"+utosi(G66,H66)","v":{"$error":"#VALUE!"}},{"$f":"+$E64","v":"kg/m3"},{"$f":"+utosi(I66,J66)","v":{"$error":"#VALUE!"}},{"$f":"+$E64","v":"kg/m3"},{"$f":"+utosi(K66,L66)","v":{"$error":"#VALUE!"}},{"$f":"+$E64","v":"kg/m3"},{"$f":"+utosi(M66,N66)","v":{"$error":"#VALUE!"}},{"$f":"+$E64","v":"kg/m3"},{"$f":"+utosi(O66,P66)","v":{"$error":"#VALUE!"}},{"$f":"+$E64","v":"kg/m3"},{"$f":"+utosi(Q66,R66)","v":{"$error":"#VALUE!"}},{"$f":"+$E64","v":"kg/m3"},{"$f":"+utosi(S66,T66)","v":{"$error":"#VALUE!"}},{"$f":"+$E64","v":"kg/m3"},{"$f":"+utosi(U66,V66)","v":{"$error":"#VALUE!"}},{"$f":"+$E64","v":"kg/m3"},{"$f":"+utosi(W66,X66)","v":{"$error":"#VALUE!"}},{"$f":"+$E64","v":"kg/m3"}]
[null,11,null,"Unidad Convertida",{"$f":"+utou(F66,F68,E66)","v":{"$error":"#VALUE!"}},null,{"$f":"+utou(H66,H68,G66)","v":{"$error":"#VALUE!"}},null,{"$f":"+utou(J66,J68,I66)","v":{"$error":"#VALUE!"}},null,{"$f":"+utou(L66,L68,K66)","v":{"$error":"#VALUE!"}},null,{"$f":"+utou(N66,N68,M66)","v":{"$error":"#VALUE!"}},null,{"$f":"+utou(P66,P68,O66)","v":{"$error":"#VALUE!"}},null,{"$f":"+utou(R66,R68,Q66)","v":{"$error":"#VALUE!"}},null,{"$f":"+utou(T66,T68,S66)","v":{"$error":"#VALUE!"}},null,{"$f":"+utou(V66,V68,U66)","v":{"$error":"#VALUE!"}},null,{"$f":"+utou(X66,X68,W66)","v":{"$error":"#VALUE!"}}]
[null,11]
[null,12,null,"Diferencia de Temperatura",{"$f":"+Factores!E88","v":"∆K"},null,{"$f":"+$E70","v":"∆K"},null,{"$f":"+$E70","v":"∆K"},null,{"$f":"+$E70","v":"∆K"},null,{"$f":"+$E70","v":"∆K"},null,{"$f":"+$E70","v":"∆K"},null,{"$f":"+$E70","v":"∆K"},null,{"$f":"+$E70","v":"∆K"},null,{"$f":"+$E70","v":"∆K"},null,{"$f":"+$E70","v":"∆K"}]
[null,12]
[null,12,null,"Unidad a Convertir",12,null,12,null,12,null,12,null,12,null,12,null,12,null,12,null,12,null,12]
[null,12,null,"Unidad SI",{"$f":"+utosi(E72,F72)","v":{"$error":"#VALUE!"}},{"$f":"+$E70","v":"∆K"},{"$f":"+utosi(G72,H72)","v":{"$error":"#VALUE!"}},{"$f":"+$E70","v":"∆K"},{"$f":"+utosi(I72,J72)","v":{"$error":"#VALUE!"}},{"$f":"+$E70","v":"∆K"},{"$f":"+utosi(K72,L72)","v":{"$error":"#VALUE!"}},{"$f":"+$E70","v":"∆K"},{"$f":"+utosi(M72,N72)","v":{"$error":"#VALUE!"}},{"$f":"+$E70","v":"∆K"},{"$f":"+utosi(O72,P72)","v":{"$error":"#VALUE!"}},{"$f":"+$E70","v":"∆K"},{"$f":"+utosi(Q72,R72)","v":{"$error":"#VALUE!"}},{"$f":"+$E70","v":"∆K"},{"$f":"+utosi(S72,T72)","v":{"$error":"#VALUE!"}},{"$f":"+$E70","v":"∆K"},{"$f":"+utosi(U72,V72)","v":{"$error":"#VALUE!"}},{"$f":"+$E70","v":"∆K"},{"$f":"+utosi(W72,X72)","v":{"$error":"#VALUE!"}},{"$f":"+$E70","v":"∆K"}]
[null,12,null,"Unidad Convertida",{"$f":"+utou(F72,F74,E72)","v":{"$error":"#VALUE!"}},null,{"$f":"+utou(H72,H74,G72)","v":{"$error":"#VALUE!"}},null,{"$f":"+utou(J72,J74,I72)","v":{"$error":"#VALUE!"}},null,{"$f":"+utou(L72,L74,K72)","v":{"$error":"#VALUE!"}},null,{"$f":"+utou(N72,N74,M72)","v":{"$error":"#VALUE!"}},null,{"$f":"+utou(P72,P74,O72)","v":{"$error":"#VALUE!"}},null,{"$f":"+utou(R72,R74,Q72)","v":{"$error":"#VALUE!"}},null,{"$f":"+utou(T72,T74,S72)","v":{"$error":"#VALUE!"}},null,{"$f":"+utou(V72,V74,U72)","v":{"$error":"#VALUE!"}},null,{"$f":"+utou(X72,X74,W72)","v":{"$error":"#VALUE!"}}]
[null,12]
[null,13,null,"Energía",{"$f":"+Factores!E93","v":"J"},null,{"$f":"+$E76","v":"J"},null,{"$f":"+$E76","v":"J"},null,{"$f":"+$E76","v":"J"},null,{"$f":"+$E76","v":"J"},null,{"$f":"+$E76","v":"J"},null,{"$f":"+$E76","v":"J"},null,{"$f":"+$E76","v":"J"},null,{"$f":"+$E76","v":"J"},null,{"$f":"+$E76","v":"J"}]
[null,13]
[null,13,null,"Unidad a Convertir",12,null,12,null,12,null,12,null,12,null,12,null,12,null,12,null,12,null,12]
[null,13,null,"Unidad SI",{"$f":"+utosi(E78,F78)","v":{"$error":"#VALUE!"}},{"$f":"+$E76","v":"J"},{"$f":"+utosi(G78,H78)","v":{"$error":"#VALUE!"}},{"$f":"+$E76","v":"J"},{"$f":"+utosi(I78,J78)","v":{"$error":"#VALUE!"}},{"$f":"+$E76","v":"J"},{"$f":"+utosi(K78,L78)","v":{"$error":"#VALUE!"}},{"$f":"+$E76","v":"J"},{"$f":"+utosi(M78,N78)","v":{"$error":"#VALUE!"}},{"$f":"+$E76","v":"J"},{"$f":"+utosi(O78,P78)","v":{"$error":"#VALUE!"}},{"$f":"+$E76","v":"J"},{"$f":"+utosi(Q78,R78)","v":{"$error":"#VALUE!"}},{"$f":"+$E76","v":"J"},{"$f":"+utosi(S78,T78)","v":{"$error":"#VALUE!"}},{"$f":"+$E76","v":"J"},{"$f":"+utosi(U78,V78)","v":{"$error":"#VALUE!"}},{"$f":"+$E76","v":"J"},{"$f":"+utosi(W78,X78)","v":{"$error":"#VALUE!"}},{"$f":"+$E76","v":"J"}]
[null,13,null,"Unidad Convertida",{"$f":"+utou(F78,F80,E78)","v":{"$error":"#VALUE!"}},null,{"$f":"+utou(H78,H80,G78)","v":{"$error":"#VALUE!"}},null,{"$f":"+utou(J78,J80,I78)","v":{"$error":"#VALUE!"}},null,{"$f":"+utou(L78,L80,K78)","v":{"$error":"#VALUE!"}},null,{"$f":"+utou(N78,N80,M78)","v":{"$error":"#VALUE!"}},null,{"$f":"+utou(P78,P80,O78)","v":{"$error":"#VALUE!"}},null,{"$f":"+utou(R78,R80,Q78)","v":{"$error":"#VALUE!"}},null,{"$f":"+utou(T78,T80,S78)","v":{"$error":"#VALUE!"}},null,{"$f":"+utou(V78,V80,U78)","v":{"$error":"#VALUE!"}},null,{"$f":"+utou(X78,X80,W78)","v":{"$error":"#VALUE!"}}]
[null,13]
[null,14,null,"Flujo Másico (Velocidad Másica)",{"$f":"+Factores!E108","v":"kg/(s m2)"},null,{"$f":"+$E82","v":"kg/(s m2)"},null,{"$f":"+$E82","v":"kg/(s m2)"},null,{"$f":"+$E82","v":"kg/(s m2)"},null,{"$f":"+$E82","v":"kg/(s m2)"},null,{"$f":"+$E82","v":"kg/(s m2)"},null,{"$f":"+$E82","v":"kg/(s m2)"},null,{"$f":"+$E82","v":"kg/(s m2)"},null,{"$f":"+$E82","v":"kg/(s m2)"},null,{"$f":"+$E82","v":"kg/(s m2)"}]
[null,14]
[null,14,null,"Unidad a Convertir",12,null,12,null,12,null,12,null,12,null,12,null,12,null,12,null,12,null,12]
[null,14,null,"Unidad SI",{"$f":"+utosi(E84,F84)","v":{"$error":"#VALUE!"}},{"$f":"+$E82","v":"kg/(s m2)"},{"$f":"+utosi(G84,H84)","v":{"$error":"#VALUE!"}},{"$f":"+$E82","v":"kg/(s m2)"},{"$f":"+utosi(I84,J84)","v":{"$error":"#VALUE!"}},{"$f":"+$E82","v":"kg/(s m2)"},{"$f":"+utosi(K84,L84)","v":{"$error":"#VALUE!"}},{"$f":"+$E82","v":"kg/(s m2)"},{"$f":"+utosi(M84,N84)","v":{"$error":"#VALUE!"}},{"$f":"+$E82","v":"kg/(s m2)"},{"$f":"+utosi(O84,P84)","v":{"$error":"#VALUE!"}},{"$f":"+$E82","v":"kg/(s m2)"},{"$f":"+utosi(Q84,R84)","v":{"$error":"#VALUE!"}},{"$f":"+$E82","v":"kg/(s m2)"},{"$f":"+utosi(S84,T84)","v":{"$error":"#VALUE!"}},{"$f":"+$E82","v":"kg/(s m2)"},{"$f":"+utosi(U84,V84)","v":{"$error":"#VALUE!"}},{"$f":"+$E82","v":"kg/(s m2)"},{"$f":"+utosi(W84,X84)","v":{"$error":"#VALUE!"}},{"$f":"+$E82","v":"kg/(s m2)"}]
[null,14,null,"Unidad Convertida",{"$f":"+utou(F84,F86,E84)","v":{"$error":"#VALUE!"}},null,{"$f":"+utou(H84,H86,G84)","v":{"$error":"#VALUE!"}},null,{"$f":"+utou(J84,J86,I84)","v":{"$error":"#VALUE!"}},null,{"$f":"+utou(L84,L86,K84)","v":{"$error":"#VALUE!"}},null,{"$f":"+utou(N84,N86,M84)","v":{"$error":"#VALUE!"}},null,{"$f":"+utou(P84,P86,O84)","v":{"$error":"#VALUE!"}},null,{"$f":"+utou(R84,R86,Q84)","v":{"$error":"#VALUE!"}},null,{"$f":"+utou(T84,T86,S84)","v":{"$error":"#VALUE!"}},null,{"$f":"+utou(V84,V86,U84)","v":{"$error":"#VALUE!"}},null,{"$f":"+utou(X84,X86,W84)","v":{"$error":"#VALUE!"}}]
[null,14]
[null,15,null,"Frecuencia",{"$f":"+Factores!E113","v":"rpm"},null,{"$f":"+$E88","v":"rpm"},null,{"$f":"+$E88","v":"rpm"},null,{"$f":"+$E88","v":"rpm"},null,{"$f":"+$E88","v":"rpm"},null,{"$f":"+$E88","v":"rpm"},null,{"$f":"+$E88","v":"rpm"},null,{"$f":"+$E88","v":"rpm"},null,{"$f":"+$E88","v":"rpm"},null,{"$f":"+$E88","v":"rpm"}]
[null,15]
[null,15,null,"Unidad a Convertir",12,null,12,null,12,null,12,null,12,null,12,null,12,null,12,null,12,null,12]
[null,15,null,"Unidad SI",{"$f":"+utosi(E90,F90)","v":{"$error":"#VALUE!"}},{"$f":"+$E88","v":"rpm"},{"$f":"+utosi(G90,H90)","v":{"$error":"#VALUE!"}},{"$f":"+$E88","v":"rpm"},{"$f":"+utosi(I90,J90)","v":{"$error":"#VALUE!"}},{"$f":"+$E88","v":"rpm"},{"$f":"+utosi(K90,L90)","v":{"$error":"#VALUE!"}},{"$f":"+$E88","v":"rpm"},{"$f":"+utosi(M90,N90)","v":{"$error":"#VALUE!"}},{"$f":"+$E88","v":"rpm"},{"$f":"+utosi(O90,P90)","v":{"$error":"#VALUE!"}},{"$f":"+$E88","v":"rpm"},{"$f":"+utosi(Q90,R90)","v":{"$error":"#VALUE!"}},{"$f":"+$E88","v":"rpm"},{"$f":"+utosi(S90,T90)","v":{"$error":"#VALUE!"}},{"$f":"+$E88","v":"rpm"},{"$f":"+utosi(U90,V90)","v":{"$error":"#VALUE!"}},{"$f":"+$E88","v":"rpm"},{"$f":"+utosi(W90,X90)","v":{"$error":"#VALUE!"}},{"$f":"+$E88","v":"rpm"}]
[null,15,null,"Unidad Convertida",{"$f":"+utou(F90,F92,E90)","v":{"$error":"#VALUE!"}},null,{"$f":"+utou(H90,H92,G90)","v":{"$error":"#VALUE!"}},null,{"$f":"+utou(J90,J92,I90)","v":{"$error":"#VALUE!"}},null,{"$f":"+utou(L90,L92,K90)","v":{"$error":"#VALUE!"}},null,{"$f":"+utou(N90,N92,M90)","v":{"$error":"#VALUE!"}},null,{"$f":"+utou(P90,P92,O90)","v":{"$error":"#VALUE!"}},null,{"$f":"+utou(R90,R92,Q90)","v":{"$error":"#VALUE!"}},null,{"$f":"+utou(T90,T92,S90)","v":{"$error":"#VALUE!"}},null,{"$f":"+utou(V90,V92,U90)","v":{"$error":"#VALUE!"}},null,{"$f":"+utou(X90,X92,W90)","v":{"$error":"#VALUE!"}}]
[null,15]
[null,16,null,"Fuerza",{"$f":"+Factores!E117","v":"N"},null,{"$f":"+$E94","v":"N"},null,{"$f":"+$E94","v":"N"},null,{"$f":"+$E94","v":"N"},null,{"$f":"+$E94","v":"N"},null,{"$f":"+$E94","v":"N"},null,{"$f":"+$E94","v":"N"},null,{"$f":"+$E94","v":"N"},null,{"$f":"+$E94","v":"N"},null,{"$f":"+$E94","v":"N"}]
[null,16]
[null,16,null,"Unidad a Convertir",12,null,12,null,12,null,12,null,12,null,12,null,12,null,12,null,12,null,12]
[null,16,null,"Unidad SI",{"$f":"+utosi(E96,F96)","v":{"$error":"#VALUE!"}},{"$f":"+$E94","v":"N"},{"$f":"+utosi(G96,H96)","v":{"$error":"#VALUE!"}},{"$f":"+$E94","v":"N"},{"$f":"+utosi(I96,J96)","v":{"$error":"#VALUE!"}},{"$f":"+$E94","v":"N"},{"$f":"+utosi(K96,L96)","v":{"$error":"#VALUE!"}},{"$f":"+$E94","v":"N"},{"$f":"+utosi(M96,N96)","v":{"$error":"#VALUE!"}},{"$f":"+$E94","v":"N"},{"$f":"+utosi(O96,P96)","v":{"$error":"#VALUE!"}},{"$f":"+$E94","v":"N"},{"$f":"+utosi(Q96,R96)","v":{"$error":"#VALUE!"}},{"$f":"+$E94","v":"N"},{"$f":"+utosi(S96,T96)","v":{"$error":"#VALUE!"}},{"$f":"+$E94","v":"N"},{"$f":"+utosi(U96,V96)","v":{"$error":"#VALUE!"}},{"$f":"+$E94","v":"N"},{"$f":"+utosi(W96,X96)","v":{"$error":"#VALUE!"}},{"$f":"+$E94","v":"N"}]
[null,16,null,"Unidad Convertida",{"$f":"+utou(F96,F98,E96)","v":{"$error":"#VALUE!"}},null,{"$f":"+utou(H96,H98,G96)","v":{"$error":"#VALUE!"}},null,{"$f":"+utou(J96,J98,I96)","v":{"$error":"#VALUE!"}},null,{"$f":"+utou(L96,L98,K96)","v":{"$error":"#VALUE!"}},null,{"$f":"+utou(N96,N98,M96)","v":{"$error":"#VALUE!"}},null,{"$f":"+utou(P96,P98,O96)","v":{"$error":"#VALUE!"}},null,{"$f":"+utou(R96,R98,Q96)","v":{"$error":"#VALUE!"}},null,{"$f":"+utou(T96,T98,S96)","v":{"$error":"#VALUE!"}},null,{"$f":"+utou(V96,V98,U96)","v":{"$error":"#VALUE!"}},null,{"$f":"+utou(X96,X98,W96)","v":{"$error":"#VALUE!"}}]
[null,16]
[null,17,null,"Longitud",{"$f":"+Factores!E124","v":"m"},null,{"$f":"+$E100","v":"m"},null,{"$f":"+$E100","v":"m"},null,{"$f":"+$E100","v":"m"},null,{"$f":"+$E100","v":"m"},null,{"$f":"+$E100","v":"m"},null,{"$f":"+$E100","v":"m"},null,{"$f":"+$E100","v":"m"},null,{"$f":"+$E100","v":"m"},null,{"$f":"+$E100","v":"m"}]
[null,17]
[null,17,null,"Unidad a Convertir",12,null,12,null,12,null,12,null,12,null,12,null,12,null,12,null,12,null,12]
[null,17,null,"Unidad SI",{"$f":"+utosi(E102,F102)","v":{"$error":"#VALUE!"}},{"$f":"+E100","v":"m"},{"$f":"+utosi(G102,H102)","v":{"$error":"#VALUE!"}},{"$f":"+G100","v":"m"},{"$f":"+utosi(I102,J102)","v":{"$error":"#VALUE!"}},{"$f":"+I100","v":"m"},{"$f":"+utosi(K102,L102)","v":{"$error":"#VALUE!"}},{"$f":"+K100","v":"m"},{"$f":"+utosi(M102,N102)","v":{"$error":"#VALUE!"}},{"$f":"+M100","v":"m"},{"$f":"+utosi(O102,P102)","v":{"$error":"#VALUE!"}},{"$f":"+O100","v":"m"},{"$f":"+utosi(Q102,R102)","v":{"$error":"#VALUE!"}},{"$f":"+Q100","v":"m"},{"$f":"+utosi(S102,T102)","v":{"$error":"#VALUE!"}},{"$f":"+S100","v":"m"},{"$f":"+utosi(U102,V102)","v":{"$error":"#VALUE!"}},{"$f":"+U100","v":"m"},{"$f":"+utosi(W102,X102)","v":{"$error":"#VALUE!"}},{"$f":"+W100","v":"m"}]
[null,17,null,"Unidad Convertida",{"$f":"+utou(F102,F104,E102)","v":{"$error":"#VALUE!"}},null,{"$f":"+utou(H102,H104,G102)","v":{"$error":"#VALUE!"}},null,{"$f":"+utou(J102,J104,I102)","v":{"$error":"#VALUE!"}},null,{"$f":"+utou(L102,L104,K102)","v":{"$error":"#VALUE!"}},null,{"$f":"+utou(N102,N104,M102)","v":{"$error":"#VALUE!"}},null,{"$f":"+utou(P102,P104,O102)","v":{"$error":"#VALUE!"}},null,{"$f":"+utou(R102,R104,Q102)","v":{"$error":"#VALUE!"}},null,{"$f":"+utou(T102,T104,S102)","v":{"$error":"#VALUE!"}},null,{"$f":"+utou(V102,V104,U102)","v":{"$error":"#VALUE!"}},null,{"$f":"+utou(X102,X104,W102)","v":{"$error":"#VALUE!"}}]
[null,17]
[null,18,null,"Masa",{"$f":"+Factores!E137","v":"kg"},null,{"$f":"+Factores!G137","v":0},null,{"$f":"+Factores!I137","v":0},null,{"$f":"+Factores!K137","v":0},null,{"$f":"+Factores!M137","v":0},null,{"$f":"+Factores!O137","v":0},null,{"$f":"+Factores!Q137","v":0},null,{"$f":"+Factores!S137","v":0},null,{"$f":"+Factores!U137","v":0},null,{"$f":"+Factores!W137","v":0}]
[null,18]
[null,18,null,"Unidad a Convertir",12,null,12,null,12,null,12,null,12,null,12,null,12,null,12,null,12,null,12]
[null,18,null,"Unidad SI",{"$f":"+utosi(E108,F108)","v":{"$error":"#VALUE!"}},{"$f":"+$E106","v":"kg"},{"$f":"+utosi(G108,H108)","v":{"$error":"#VALUE!"}},{"$f":"+$E106","v":"kg"},{"$f":"+utosi(I108,J108)","v":{"$error":"#VALUE!"}},{"$f":"+$E106","v":"kg"},{"$f":"+utosi(K108,L108)","v":{"$error":"#VALUE!"}},{"$f":"+$E106","v":"kg"},{"$f":"+utosi(M108,N108)","v":{"$error":"#VALUE!"}},{"$f":"+$E106","v":"kg"},{"$f":"+utosi(O108,P108)","v":{"$error":"#VALUE!"}},{"$f":"+$E106","v":"kg"},{"$f":"+utosi(Q108,R108)","v":{"$error":"#VALUE!"}},{"$f":"+$E106","v":"kg"},{"$f":"+utosi(S108,T108)","v":{"$error":"#VALUE!"}},{"$f":"+$E106","v":"kg"},{"$f":"+utosi(U108,V108)","v":{"$error":"#VALUE!"}},{"$f":"+$E106","v":"kg"},{"$f":"+utosi(W108,X108)","v":{"$error":"#VALUE!"}},{"$f":"+$E106","v":"kg"}]
[null,18,null,"Unidad Convertida",{"$f":"+utou(F108,F110,E108)","v":{"$error":"#VALUE!"}},null,{"$f":"+utou(H108,H110,G108)","v":{"$error":"#VALUE!"}},null,{"$f":"+utou(J108,J110,I108)","v":{"$error":"#VALUE!"}},null,{"$f":"+utou(L108,L110,K108)","v":{"$error":"#VALUE!"}},null,{"$f":"+utou(N108,N110,M108)","v":{"$error":"#VALUE!"}},null,{"$f":"+utou(P108,P110,O108)","v":{"$error":"#VALUE!"}},null,{"$f":"+utou(R108,R110,Q108)","v":{"$error":"#VALUE!"}},null,{"$f":"+utou(T108,T110,S108)","v":{"$error":"#VALUE!"}},null,{"$f":"+utou(V108,V110,U108)","v":{"$error":"#VALUE!"}},null,{"$f":"+utou(X108,X110,W108)","v":{"$error":"#VALUE!"}}]
[null,18]
[null,19,null,"Peso Molecular",{"$f":"+Factores!E146","v":"kg/mol"},null,{"$f":"+$E112","v":"kg/mol"},null,{"$f":"+$E112","v":"kg/mol"},null,{"$f":"+$E112","v":"kg/mol"},null,{"$f":"+$E112","v":"kg/mol"},null,{"$f":"+$E112","v":"kg/mol"},null,{"$f":"+$E112","v":"kg/mol"},null,{"$f":"+$E112","v":"kg/mol"},null,{"$f":"+$E112","v":"kg/mol"},null,{"$f":"+$E112","v":"kg/mol"}]
[null,19]
[null,19,null,"Unidad a Convertir",12,null,12,null,12,null,12,null,12,null,12,null,12,null,12,null,12,null,12]
[null,19,null,"Unidad SI",{"$f":"+utosi(E114,F114)","v":{"$error":"#VALUE!"}},{"$f":"+$E112","v":"kg/mol"},{"$f":"+utosi(G114,H114)","v":{"$error":"#VALUE!"}},{"$f":"+$E112","v":"kg/mol"},{"$f":"+utosi(I114,J114)","v":{"$error":"#VALUE!"}},{"$f":"+$E112","v":"kg/mol"},{"$f":"+utosi(K114,L114)","v":{"$error":"#VALUE!"}},{"$f":"+$E112","v":"kg/mol"},{"$f":"+utosi(M114,N114)","v":{"$error":"#VALUE!"}},{"$f":"+$E112","v":"kg/mol"},{"$f":"+utosi(O114,P114)","v":{"$error":"#VALUE!"}},{"$f":"+$E112","v":"kg/mol"},{"$f":"+utosi(Q114,R114)","v":{"$error":"#VALUE!"}},{"$f":"+$E112","v":"kg/mol"},{"$f":"+utosi(S114,T114)","v":{"$error":"#VALUE!"}},{"$f":"+$E112","v":"kg/mol"},{"$f":"+utosi(U114,V114)","v":{"$error":"#VALUE!"}},{"$f":"+$E112","v":"kg/mol"},{"$f":"+utosi(W114,X114)","v":{"$error":"#VALUE!"}},{"$f":"+$E112","v":"kg/mol"}]
[null,19,null,"Unidad Convertida",{"$f":"+utou(F114,F116,E114)","v":{"$error":"#VALUE!"}},null,{"$f":"+utou(H114,H116,G114)","v":{"$error":"#VALUE!"}},null,{"$f":"+utou(J114,J116,I114)","v":{"$error":"#VALUE!"}},null,{"$f":"+utou(L114,L116,K114)","v":{"$error":"#VALUE!"}},null,{"$f":"+utou(N114,N116,M114)","v":{"$error":"#VALUE!"}},null,{"$f":"+utou(P114,P116,O114)","v":{"$error":"#VALUE!"}},null,{"$f":"+utou(R114,R116,Q114)","v":{"$error":"#VALUE!"}},null,{"$f":"+utou(T114,T116,S114)","v":{"$error":"#VALUE!"}},null,{"$f":"+utou(V114,V116,U114)","v":{"$error":"#VALUE!"}},null,{"$f":"+utou(X114,X116,W114)","v":{"$error":"#VALUE!"}}]
[null,19]
[null,20,null,"Potencia",{"$f":"+Factores!E152","v":"W"},null,{"$f":"+$E118","v":"W"},null,{"$f":"+$E118","v":"W"},null,{"$f":"+$E118","v":"W"},null,{"$f":"+$E118","v":"W"},null,{"$f":"+$E118","v":"W"},null,{"$f":"+$E118","v":"W"},null,{"$f":"+$E118","v":"W"},null,{"$f":"+$E118","v":"W"},null,{"$f":"+$E118","v":"W"}]
[null,20]
[null,20,null,"Unidad a Convertir",12,null,12,null,12,null,12,null,12,null,12,null,12,null,12,null,12,null,12]
[null,20,null,"Unidad SI",{"$f":"+utosi(E120,F120)","v":{"$error":"#VALUE!"}},{"$f":"+$E118","v":"W"},{"$f":"+utosi(G120,H120)","v":{"$error":"#VALUE!"}},{"$f":"+$E118","v":"W"},{"$f":"+utosi(I120,J120)","v":{"$error":"#VALUE!"}},{"$f":"+$E118","v":"W"},{"$f":"+utosi(K120,L120)","v":{"$error":"#VALUE!"}},{"$f":"+$E118","v":"W"},{"$f":"+utosi(M120,N120)","v":{"$error":"#VALUE!"}},{"$f":"+$E118","v":"W"},{"$f":"+utosi(O120,P120)","v":{"$error":"#VALUE!"}},{"$f":"+$E118","v":"W"},{"$f":"+utosi(Q120,R120)","v":{"$error":"#VALUE!"}},{"$f":"+$E118","v":"W"},{"$f":"+utosi(S120,T120)","v":{"$error":"#VALUE!"}},{"$f":"+$E118","v":"W"},{"$f":"+utosi(U120,V120)","v":{"$error":"#VALUE!"}},{"$f":"+$E118","v":"W"},{"$f":"+utosi(W120,X120)","v":{"$error":"#VALUE!"}},{"$f":"+$E118","v":"W"}]
[null,20,null,"Unidad Convertida",{"$f":"+utou(F120,F122,E120)","v":{"$error":"#VALUE!"}},null,{"$f":"+utou(H120,H122,G120)","v":{"$error":"#VALUE!"}},null,{"$f":"+utou(J120,J122,I120)","v":{"$error":"#VALUE!"}},null,{"$f":"+utou(L120,L122,K120)","v":{"$error":"#VALUE!"}},null,{"$f":"+utou(N120,N122,M120)","v":{"$error":"#VALUE!"}},null,{"$f":"+utou(P120,P122,O120)","v":{"$error":"#VALUE!"}},null,{"$f":"+utou(R120,R122,Q120)","v":{"$error":"#VALUE!"}},null,{"$f":"+utou(T120,T122,S120)","v":{"$error":"#VALUE!"}},null,{"$f":"+utou(V120,V122,U120)","v":{"$error":"#VALUE!"}},null,{"$f":"+utou(X120,X122,W120)","v":{"$error":"#VALUE!"}}]
[null,20]
[null,21,null,"Potencia por Unidad de Área",{"$f":"+Factores!E169","v":"W/m2"},null,{"$f":"+$E124","v":"W/m2"},null,{"$f":"+$E124","v":"W/m2"},null,{"$f":"+$E124","v":"W/m2"},null,{"$f":"+$E124","v":"W/m2"},null,{"$f":"+$E124","v":"W/m2"},null,{"$f":"+$E124","v":"W/m2"},null,{"$f":"+$E124","v":"W/m2"},null,{"$f":"+$E124","v":"W/m2"},null,{"$f":"+$E124","v":"W/m2"}]
[null,21]
[null,21,null,"Unidad a Convertir",12,null,12,null,12,null,12,null,12,null,12,null,12,null,12,null,12,null,12]
[null,21,null,"Unidad SI",{"$f":"+utosi(E126,F126)","v":{"$error":"#VALUE!"}},{"$f":"+$E124","v":"W/m2"},{"$f":"+utosi(G126,H126)","v":{"$error":"#VALUE!"}},{"$f":"+$E124","v":"W/m2"},{"$f":"+utosi(I126,J126)","v":{"$error":"#VALUE!"}},{"$f":"+$E124","v":"W/m2"},{"$f":"+utosi(K126,L126)","v":{"$error":"#VALUE!"}},{"$f":"+$E124","v":"W/m2"},{"$f":"+utosi(M126,N126)","v":{"$error":"#VALUE!"}},{"$f":"+$E124","v":"W/m2"},{"$f":"+utosi(O126,P126)","v":{"$error":"#VALUE!"}},{"$f":"+$E124","v":"W/m2"},{"$f":"+utosi(Q126,R126)","v":{"$error":"#VALUE!"}},{"$f":"+$E124","v":"W/m2"},{"$f":"+utosi(S126,T126)","v":{"$error":"#VALUE!"}},{"$f":"+$E124","v":"W/m2"},{"$f":"+utosi(U126,V126)","v":{"$error":"#VALUE!"}},{"$f":"+$E124","v":"W/m2"},{"$f":"+utosi(W126,X126)","v":{"$error":"#VALUE!"}},{"$f":"+$E124","v":"W/m2"}]
[null,21,null,"Unidad Convertida",{"$f":"+utou(F126,F128,E126)","v":{"$error":"#VALUE!"}},null,{"$f":"+utou(H126,H128,G126)","v":{"$error":"#VALUE!"}},null,{"$f":"+utou(J126,J128,I126)","v":{"$error":"#VALUE!"}},null,{"$f":"+utou(L126,L128,K126)","v":{"$error":"#VALUE!"}},null,{"$f":"+utou(N126,N128,M126)","v":{"$error":"#VALUE!"}},null,{"$f":"+utou(P126,P128,O126)","v":{"$error":"#VALUE!"}},null,{"$f":"+utou(R126,R128,Q126)","v":{"$error":"#VALUE!"}},null,{"$f":"+utou(T126,T128,S126)","v":{"$error":"#VALUE!"}},null,{"$f":"+utou(V126,V128,U126)","v":{"$error":"#VALUE!"}},null,{"$f":"+utou(X126,X128,W126)","v":{"$error":"#VALUE!"}}]
[null,21]
[null,22,null,"Presión",{"$f":"+Factores!E173","v":"Pa"},null,{"$f":"+$E130","v":"Pa"},null,{"$f":"+$E130","v":"Pa"},null,{"$f":"+$E130","v":"Pa"},null,{"$f":"+$E130","v":"Pa"},null,{"$f":"+$E130","v":"Pa"},null,{"$f":"+$E130","v":"Pa"},null,{"$f":"+$E130","v":"Pa"},null,{"$f":"+$E130","v":"Pa"},null,{"$f":"+$E130","v":"Pa"}]
[null,22]
[null,22,null,"Unidad a Convertir",12,null,12,null,12,null,12,null,12,null,12,null,12,null,12,null,12,null,12]
[null,22,null,"Unidad SI",{"$f":"+utosi(E132,F132)","v":{"$error":"#VALUE!"}},{"$f":"+$E130","v":"Pa"},{"$f":"+utosi(G132,H132)","v":{"$error":"#VALUE!"}},{"$f":"+$E130","v":"Pa"},{"$f":"+utosi(I132,J132)","v":{"$error":"#VALUE!"}},{"$f":"+$E130","v":"Pa"},{"$f":"+utosi(K132,L132)","v":{"$error":"#VALUE!"}},{"$f":"+$E130","v":"Pa"},{"$f":"+utosi(M132,N132)","v":{"$error":"#VALUE!"}},{"$f":"+$E130","v":"Pa"},{"$f":"+utosi(O132,P132)","v":{"$error":"#VALUE!"}},{"$f":"+$E130","v":"Pa"},{"$f":"+utosi(Q132,R132)","v":{"$error":"#VALUE!"}},{"$f":"+$E130","v":"Pa"},{"$f":"+utosi(S132,T132)","v":{"$error":"#VALUE!"}},{"$f":"+$E130","v":"Pa"},{"$f":"+utosi(U132,V132)","v":{"$error":"#VALUE!"}},{"$f":"+$E130","v":"Pa"},{"$f":"+utosi(W132,X132)","v":{"$error":"#VALUE!"}},{"$f":"+$E130","v":"Pa"}]
[null,22,null,"Unidad Convertida",{"$f":"+utou(F132,F134,E132)","v":{"$error":"#VALUE!"}},null,{"$f":"+utou(H132,H134,G132)","v":{"$error":"#VALUE!"}},null,{"$f":"+utou(J132,J134,I132)","v":{"$error":"#VALUE!"}},null,{"$f":"+utou(L132,L134,K132)","v":{"$error":"#VALUE!"}},null,{"$f":"+utou(N132,N134,M132)","v":{"$error":"#VALUE!"}},null,{"$f":"+utou(P132,P134,O132)","v":{"$error":"#VALUE!"}},null,{"$f":"+utou(R132,R134,Q132)","v":{"$error":"#VALUE!"}},null,{"$f":"+utou(T132,T134,S132)","v":{"$error":"#VALUE!"}},null,{"$f":"+utou(V132,V134,U132)","v":{"$error":"#VALUE!"}},null,{"$f":"+utou(X132,X134,W132)","v":{"$error":"#VALUE!"}}]
[null,22]
[null,23,null,"Presión por Unidad de Longitud",{"$f":"+Factores!E194","v":"Pa/m"},null,{"$f":"+$E136","v":"Pa/m"},null,{"$f":"+$E136","v":"Pa/m"},null,{"$f":"+$E136","v":"Pa/m"},null,{"$f":"+$E136","v":"Pa/m"},null,{"$f":"+$E136","v":"Pa/m"},null,{"$f":"+$E136","v":"Pa/m"},null,{"$f":"+$E136","v":"Pa/m"},null,{"$f":"+$E136","v":"Pa/m"},null,{"$f":"+$E136","v":"Pa/m"}]
[null,23]
[null,23,null,"Unidad a Convertir",12,null,12,null,12,null,12,null,12,null,12,null,12,null,12,null,12,null,12]
[null,23,null,"Unidad SI",{"$f":"+utosi(E138,F138)","v":{"$error":"#VALUE!"}},{"$f":"+$E136","v":"Pa/m"},{"$f":"+utosi(G138,H138)","v":{"$error":"#VALUE!"}},{"$f":"+$E136","v":"Pa/m"},{"$f":"+utosi(I138,J138)","v":{"$error":"#VALUE!"}},{"$f":"+$E136","v":"Pa/m"},{"$f":"+utosi(K138,L138)","v":{"$error":"#VALUE!"}},{"$f":"+$E136","v":"Pa/m"},{"$f":"+utosi(M138,N138)","v":{"$error":"#VALUE!"}},{"$f":"+$E136","v":"Pa/m"},{"$f":"+utosi(O138,P138)","v":{"$error":"#VALUE!"}},{"$f":"+$E136","v":"Pa/m"},{"$f":"+utosi(Q138,R138)","v":{"$error":"#VALUE!"}},{"$f":"+$E136","v":"Pa/m"},{"$f":"+utosi(S138,T138)","v":{"$error":"#VALUE!"}},{"$f":"+$E136","v":"Pa/m"},{"$f":"+utosi(U138,V138)","v":{"$error":"#VALUE!"}},{"$f":"+$E136","v":"Pa/m"},{"$f":"+utosi(W138,X138)","v":{"$error":"#VALUE!"}},{"$f":"+$E136","v":"Pa/m"}]
[null,23,null,"Unidad Convertida",{"$f":"+utou(F138,F140,E138)","v":{"$error":"#VALUE!"}},null,{"$f":"+utou(H138,H140,G138)","v":{"$error":"#VALUE!"}},null,{"$f":"+utou(J138,J140,I138)","v":{"$error":"#VALUE!"}},null,{"$f":"+utou(L138,L140,K138)","v":{"$error":"#VALUE!"}},null,{"$f":"+utou(N138,N140,M138)","v":{"$error":"#VALUE!"}},null,{"$f":"+utou(P138,P140,O138)","v":{"$error":"#VALUE!"}},null,{"$f":"+utou(R138,R140,Q138)","v":{"$error":"#VALUE!"}},null,{"$f":"+utou(T138,T140,S138)","v":{"$error":"#VALUE!"}},null,{"$f":"+utou(V138,V140,U138)","v":{"$error":"#VALUE!"}},null,{"$f":"+utou(X138,X140,W138)","v":{"$error":"#VALUE!"}}]
[null,23]
[null,24,null,"Resistencia Térmica",{"$f":"+Factores!E200","v":"m2 K/W"},null,{"$f":"+$E142","v":"m2 K/W"},null,{"$f":"+$E142","v":"m2 K/W"},null,{"$f":"+$E142","v":"m2 K/W"},null,{"$f":"+$E142","v":"m2 K/W"},null,{"$f":"+$E142","v":"m2 K/W"},null,{"$f":"+$E142","v":"m2 K/W"},null,{"$f":"+$E142","v":"m2 K/W"},null,{"$f":"+$E142","v":"m2 K/W"},null,{"$f":"+$E142","v":"m2 K/W"}]
[null,24]
[null,24,null,"Unidad a Convertir",12,null,12,null,12,null,12,null,12,null,12,null,12,null,12,null,12,null,12]
[null,24,null,"Unidad SI",{"$f":"+utosi(E144,F144)","v":{"$error":"#VALUE!"}},{"$f":"+$E142","v":"m2 K/W"},{"$f":"+utosi(G144,H144)","v":{"$error":"#VALUE!"}},{"$f":"+$E142","v":"m2 K/W"},{"$f":"+utosi(I144,J144)","v":{"$error":"#VALUE!"}},{"$f":"+$E142","v":"m2 K/W"},{"$f":"+utosi(K144,L144)","v":{"$error":"#VALUE!"}},{"$f":"+$E142","v":"m2 K/W"},{"$f":"+utosi(M144,N144)","v":{"$error":"#VALUE!"}},{"$f":"+$E142","v":"m2 K/W"},{"$f":"+utosi(O144,P144)","v":{"$error":"#VALUE!"}},{"$f":"+$E142","v":"m2 K/W"},{"$f":"+utosi(Q144,R144)","v":{"$error":"#VALUE!"}},{"$f":"+$E142","v":"m2 K/W"},{"$f":"+utosi(S144,T144)","v":{"$error":"#VALUE!"}},{"$f":"+$E142","v":"m2 K/W"},{"$f":"+utosi(U144,V144)","v":{"$error":"#VALUE!"}},{"$f":"+$E142","v":"m2 K/W"},{"$f":"+utosi(W144,X144)","v":{"$error":"#VALUE!"}},{"$f":"+$E142","v":"m2 K/W"}]
[null,24,null,"Unidad Convertida",{"$f":"+utou(F144,F146,E144)","v":{"$error":"#VALUE!"}},null,{"$f":"+utou(H144,H146,G144)","v":{"$error":"#VALUE!"}},null,{"$f":"+utou(J144,J146,I144)","v":{"$error":"#VALUE!"}},null,{"$f":"+utou(L144,L146,K144)","v":{"$error":"#VALUE!"}},null,{"$f":"+utou(N144,N146,M144)","v":{"$error":"#VALUE!"}},null,{"$f":"+utou(P144,P146,O144)","v":{"$error":"#VALUE!"}},null,{"$f":"+utou(R144,R146,Q144)","v":{"$error":"#VALUE!"}},null,{"$f":"+utou(T144,T146,S144)","v":{"$error":"#VALUE!"}},null,{"$f":"+utou(V144,V146,U144)","v":{"$error":"#VALUE!"}},null,{"$f":"+utou(X144,X146,W144)","v":{"$error":"#VALUE!"}}]
[null,24]
[null,25,null,"Tensión superficial",{"$f":"+Factores!E204","v":"N/m"},null,{"$f":"+$E148","v":"N/m"},null,{"$f":"+$E148","v":"N/m"},null,{"$f":"+$E148","v":"N/m"},null,{"$f":"+$E148","v":"N/m"},null,{"$f":"+$E148","v":"N/m"},null,{"$f":"+$E148","v":"N/m"},null,{"$f":"+$E148","v":"N/m"},null,{"$f":"+$E148","v":"N/m"},null,{"$f":"+$E148","v":"N/m"}]
[null,25]
[null,25,null,"Unidad a Convertir",12,null,12,null,12,null,12,null,12,null,12,null,12,null,12,null,12,null,12]
[null,25,null,"Unidad SI",{"$f":"+utosi(E150,F150)","v":{"$error":"#VALUE!"}},{"$f":"+$E148","v":"N/m"},{"$f":"+utosi(G150,H150)","v":{"$error":"#VALUE!"}},{"$f":"+$E148","v":"N/m"},{"$f":"+utosi(I150,J150)","v":{"$error":"#VALUE!"}},{"$f":"+$E148","v":"N/m"},{"$f":"+utosi(K150,L150)","v":{"$error":"#VALUE!"}},{"$f":"+$E148","v":"N/m"},{"$f":"+utosi(M150,N150)","v":{"$error":"#VALUE!"}},{"$f":"+$E148","v":"N/m"},{"$f":"+utosi(O150,P150)","v":{"$error":"#VALUE!"}},{"$f":"+$E148","v":"N/m"},{"$f":"+utosi(Q150,R150)","v":{"$error":"#VALUE!"}},{"$f":"+$E148","v":"N/m"},{"$f":"+utosi(S150,T150)","v":{"$error":"#VALUE!"}},{"$f":"+$E148","v":"N/m"},{"$f":"+utosi(U150,V150)","v":{"$error":"#VALUE!"}},{"$f":"+$E148","v":"N/m"},{"$f":"+utosi(W150,X150)","v":{"$error":"#VALUE!"}},{"$f":"+$E148","v":"N/m"}]
[null,25,null,"Unidad Convertida",{"$f":"+utou(F150,F152,E150)","v":{"$error":"#VALUE!"}},null,{"$f":"+utou(H150,H152,G150)","v":{"$error":"#VALUE!"}},null,{"$f":"+utou(J150,J152,I150)","v":{"$error":"#VALUE!"}},null,{"$f":"+utou(L150,L152,K150)","v":{"$error":"#VALUE!"}},null,{"$f":"+utou(N150,N152,M150)","v":{"$error":"#VALUE!"}},null,{"$f":"+utou(P150,P152,O150)","v":{"$error":"#VALUE!"}},null,{"$f":"+utou(R150,R152,Q150)","v":{"$error":"#VALUE!"}},null,{"$f":"+utou(T150,T152,S150)","v":{"$error":"#VALUE!"}},null,{"$f":"+utou(V150,V152,U150)","v":{"$error":"#VALUE!"}},null,{"$f":"+utou(X150,X152,W150)","v":{"$error":"#VALUE!"}}]
[null,25]
[null,26,null,"Temperatura",{"$f":"+Factores!E207","v":"K"},null,{"$f":"+$E154","v":"K"},null,{"$f":"+$E154","v":"K"},null,{"$f":"+$E154","v":"K"},null,{"$f":"+$E154","v":"K"},null,{"$f":"+$E154","v":"K"},null,{"$f":"+$E154","v":"K"},null,{"$f":"+$E154","v":"K"},null,{"$f":"+$E154","v":"K"},null,{"$f":"+$E154","v":"K"}]
[null,26]
[null,26,null,"Unidad a Convertir",15,"°C",15,"°C",15,"°C",15,"°C",15,"°C",15,"°C",15,"°C",15,"°C",15,"°C",15,"°C"]
[null,26,null,"Unidad SI",{"$f":"+utosi(E156,F156)","v":288.14999999999998},{"$f":"+$E154","v":"K"},{"$f":"+utosi(G156,H156)","v":288.14999999999998},{"$f":"+$E154","v":"K"},{"$f":"+utosi(I156,J156)","v":288.14999999999998},{"$f":"+$E154","v":"K"},{"$f":"+utosi(K156,L156)","v":288.14999999999998},{"$f":"+$E154","v":"K"},{"$f":"+utosi(M156,N156)","v":288.14999999999998},{"$f":"+$E154","v":"K"},{"$f":"+utosi(O156,P156)","v":288.14999999999998},{"$f":"+$E154","v":"K"},{"$f":"+utosi(Q156,R156)","v":288.14999999999998},{"$f":"+$E154","v":"K"},{"$f":"+utosi(S156,T156)","v":288.14999999999998},{"$f":"+$E154","v":"K"},{"$f":"+utosi(U156,V156)","v":288.14999999999998},{"$f":"+$E154","v":"K"},{"$f":"+utosi(W156,X156)","v":288.14999999999998},{"$f":"+$E154","v":"K"}]
[null,26,null,"Unidad Convertida",{"$f":"+utou(F156,F158,E156)","v":58.999999999999943},"°F",{"$f":"+utou(H156,H158,G156)","v":58.999999999999943},"°F",{"$f":"+utou(J156,J158,I156)","v":58.999999999999943},"°F",{"$f":"+utou(L156,L158,K156)","v":58.999999999999943},"°F",{"$f":"+utou(N156,N158,M156)","v":58.999999999999943},"°F",{"$f":"+utou(P156,P158,O156)","v":58.999999999999943},"°F",{"$f":"+utou(R156,R158,Q156)","v":58.999999999999943},"°F",{"$f":"+utou(T156,T158,S156)","v":58.999999999999943},"°F",{"$f":"+utou(V156,V158,U156)","v":58.999999999999943},"°F",{"$f":"+utou(X156,X158,W156)","v":58.999999999999943},"°F"]
[null,26]
[null,27,null,"Tiempo",{"$f":"+Factores!E212","v":"s"},null,{"$f":"+$E160","v":"s"},null,{"$f":"+$E160","v":"s"},null,{"$f":"+$E160","v":"s"},null,{"$f":"+$E160","v":"s"},null,{"$f":"+$E160","v":"s"},null,{"$f":"+$E160","v":"s"},null,{"$f":"+$E160","v":"s"},null,{"$f":"+$E160","v":"s"},null,{"$f":"+$E160","v":"s"}]
[null,27]
[null,27,null,"Unidad a Convertir",15,null,15,null,15,null,15,null,15,null,15,null,15,null,15,null,15,null,15]
[null,27,null,"Unidad SI",{"$f":"+utosi(E162,F162)","v":{"$error":"#VALUE!"}},{"$f":"+$E160","v":"s"},{"$f":"+utosi(G162,H162)","v":{"$error":"#VALUE!"}},{"$f":"+$E160","v":"s"},{"$f":"+utosi(I162,J162)","v":{"$error":"#VALUE!"}},{"$f":"+$E160","v":"s"},{"$f":"+utosi(K162,L162)","v":{"$error":"#VALUE!"}},{"$f":"+$E160","v":"s"},{"$f":"+utosi(M162,N162)","v":{"$error":"#VALUE!"}},{"$f":"+$E160","v":"s"},{"$f":"+utosi(O162,P162)","v":{"$error":"#VALUE!"}},{"$f":"+$E160","v":"s"},{"$f":"+utosi(Q162,R162)","v":{"$error":"#VALUE!"}},{"$f":"+$E160","v":"s"},{"$f":"+utosi(S162,T162)","v":{"$error":"#VALUE!"}},{"$f":"+$E160","v":"s"},{"$f":"+utosi(U162,V162)","v":{"$error":"#VALUE!"}},{"$f":"+$E160","v":"s"},{"$f":"+utosi(W162,X162)","v":{"$error":"#VALUE!"}},{"$f":"+$E160","v":"s"}]
[null,27,null,"Unidad Convertida",{"$f":"+utou(F162,F164,E162)","v":{"$error":"#VALUE!"}},null,{"$f":"+utou(H162,H164,G162)","v":{"$error":"#VALUE!"}},null,{"$f":"+utou(J162,J164,I162)","v":{"$error":"#VALUE!"}},null,{"$f":"+utou(L162,L164,K162)","v":{"$error":"#VALUE!"}},null,{"$f":"+utou(N162,N164,M162)","v":{"$error":"#VALUE!"}},null,{"$f":"+utou(P162,P164,O162)","v":{"$error":"#VALUE!"}},null,{"$f":"+utou(R162,R164,Q162)","v":{"$error":"#VALUE!"}},null,{"$f":"+utou(T162,T164,S162)","v":{"$error":"#VALUE!"}},null,{"$f":"+utou(V162,V164,U162)","v":{"$error":"#VALUE!"}},null,{"$f":"+utou(X162,X164,W162)","v":{"$error":"#VALUE!"}}]
[null,27]
[null,28,null,"Velocidad",{"$f":"+Factores!E218","v":"m/s"},null,{"$f":"+$E166","v":"m/s"},null,{"$f":"+$E166","v":"m/s"},null,{"$f":"+$E166","v":"m/s"},null,{"$f":"+$E166","v":"m/s"},null,{"$f":"+$E166","v":"m/s"},null,{"$f":"+$E166","v":"m/s"},null,{"$f":"+$E166","v":"m/s"},null,{"$f":"+$E166","v":"m/s"},null,{"$f":"+$E166","v":"m/s"}]
[null,28]
[null,28,null,"Unidad a Convertir",15,null,15,null,15,null,15,null,15,null,15,null,15,null,15,null,15,null,15]
[null,28,null,"Unidad SI",{"$f":"+utosi(E168,F168)","v":{"$error":"#VALUE!"}},{"$f":"+$E166","v":"m/s"},{"$f":"+utosi(G168,H168)","v":{"$error":"#VALUE!"}},{"$f":"+$E166","v":"m/s"},{"$f":"+utosi(I168,J168)","v":{"$error":"#VALUE!"}},{"$f":"+$E166","v":"m/s"},{"$f":"+utosi(K168,L168)","v":{"$error":"#VALUE!"}},{"$f":"+$E166","v":"m/s"},{"$f":"+utosi(M168,N168)","v":{"$error":"#VALUE!"}},{"$f":"+$E166","v":"m/s"},{"$f":"+utosi(O168,P168)","v":{"$error":"#VALUE!"}},{"$f":"+$E166","v":"m/s"},{"$f":"+utosi(Q168,R168)","v":{"$error":"#VALUE!"}},{"$f":"+$E166","v":"m/s"},{"$f":"+utosi(S168,T168)","v":{"$error":"#VALUE!"}},{"$f":"+$E166","v":"m/s"},{"$f":"+utosi(U168,V168)","v":{"$error":"#VALUE!"}},{"$f":"+$E166","v":"m/s"},{"$f":"+utosi(W168,X168)","v":{"$error":"#VALUE!"}},{"$f":"+$E166","v":"m/s"}]
[null,28,null,"Unidad Convertida",{"$f":"+utou(F168,F170,E168)","v":{"$error":"#VALUE!"}},null,{"$f":"+utou(H168,H170,G168)","v":{"$error":"#VALUE!"}},null,{"$f":"+utou(J168,J170,I168)","v":{"$error":"#VALUE!"}},null,{"$f":"+utou(L168,L170,K168)","v":{"$error":"#VALUE!"}},null,{"$f":"+utou(N168,N170,M168)","v":{"$error":"#VALUE!"}},null,{"$f":"+utou(P168,P170,O168)","v":{"$error":"#VALUE!"}},null,{"$f":"+utou(R168,R170,Q168)","v":{"$error":"#VALUE!"}},null,{"$f":"+utou(T168,T170,S168)","v":{"$error":"#VALUE!"}},null,{"$f":"+utou(V168,V170,U168)","v":{"$error":"#VALUE!"}},null,{"$f":"+utou(X168,X170,W168)","v":{"$error":"#VALUE!"}}]
[null,28]
[null,29,null,"Viscosidad Cinemática",{"$f":"+Factores!E230","v":"m2/s"},null,{"$f":"+$E172","v":"m2/s"},null,{"$f":"+$E172","v":"m2/s"},null,{"$f":"+$E172","v":"m2/s"},null,{"$f":"+$E172","v":"m2/s"},null,{"$f":"+$E172","v":"m2/s"},null,{"$f":"+$E172","v":"m2/s"},null,{"$f":"+$E172","v":"m2/s"},null,{"$f":"+$E172","v":"m2/s"},null,{"$f":"+$E172","v":"m2/s"}]
[null,29]
[null,29,null,"Unidad a Convertir",15,null,15,null,15,null,15,null,15,null,15,null,15,null,15,null,15,null,15]
[null,29,null,"Unidad SI",{"$f":"+utosi(E174,F174)","v":{"$error":"#VALUE!"}},{"$f":"+$E172","v":"m2/s"},{"$f":"+utosi(G174,H174)","v":{"$error":"#VALUE!"}},{"$f":"+$E172","v":"m2/s"},{"$f":"+utosi(I174,J174)","v":{"$error":"#VALUE!"}},{"$f":"+$E172","v":"m2/s"},{"$f":"+utosi(K174,L174)","v":{"$error":"#VALUE!"}},{"$f":"+$E172","v":"m2/s"},{"$f":"+utosi(M174,N174)","v":{"$error":"#VALUE!"}},{"$f":"+$E172","v":"m2/s"},{"$f":"+utosi(O174,P174)","v":{"$error":"#VALUE!"}},{"$f":"+$E172","v":"m2/s"},{"$f":"+utosi(Q174,R174)","v":{"$error":"#VALUE!"}},{"$f":"+$E172","v":"m2/s"},{"$f":"+utosi(S174,T174)","v":{"$error":"#VALUE!"}},{"$f":"+$E172","v":"m2/s"},{"$f":"+utosi(U174,V174)","v":{"$error":"#VALUE!"}},{"$f":"+$E172","v":"m2/s"},{"$f":"+utosi(W174,X174)","v":{"$error":"#VALUE!"}},{"$f":"+$E172","v":"m2/s"}]
[null,29,null,"Unidad Convertida",{"$f":"+utou(F174,F176,E174)","v":{"$error":"#VALUE!"}},null,{"$f":"+utou(H174,H176,G174)","v":{"$error":"#VALUE!"}},null,{"$f":"+utou(J174,J176,I174)","v":{"$error":"#VALUE!"}},null,{"$f":"+utou(L174,L176,K174)","v":{"$error":"#VALUE!"}},null,{"$f":"+utou(N174,N176,M174)","v":{"$error":"#VALUE!"}},null,{"$f":"+utou(P174,P176,O174)","v":{"$error":"#VALUE!"}},null,{"$f":"+utou(R174,R176,Q174)","v":{"$error":"#VALUE!"}},null,{"$f":"+utou(T174,T176,S174)","v":{"$error":"#VALUE!"}},null,{"$f":"+utou(V174,V176,U174)","v":{"$error":"#VALUE!"}},null,{"$f":"+utou(X174,X176,W174)","v":{"$error":"#VALUE!"}}]
[null,29]
[null,30,null,"Viscosidad Dinámica",{"$f":"+Factores!E238","v":"Pa s"},null,{"$f":"+$E178","v":"Pa s"},null,{"$f":"+$E178","v":"Pa s"},null,{"$f":"+$E178","v":"Pa s"},null,{"$f":"+$E178","v":"Pa s"},null,{"$f":"+$E178","v":"Pa s"},null,{"$f":"+$E178","v":"Pa s"},null,{"$f":"+$E178","v":"Pa s"},null,{"$f":"+$E178","v":"Pa s"},null,{"$f":"+$E178","v":"Pa s"}]
[null,30]
[null,30,null,"Unidad a Convertir",15,null,15,null,15,null,15,null,15,null,15,null,15,null,15,null,15,null,15]
[null,30,null,"Unidad SI",{"$f":"+utosi(E180,F180)","v":{"$error":"#VALUE!"}},{"$f":"+$E178","v":"Pa s"},{"$f":"+utosi(G180,H180)","v":{"$error":"#VALUE!"}},{"$f":"+$E178","v":"Pa s"},{"$f":"+utosi(I180,J180)","v":{"$error":"#VALUE!"}},{"$f":"+$E178","v":"Pa s"},{"$f":"+utosi(K180,L180)","v":{"$error":"#VALUE!"}},{"$f":"+$E178","v":"Pa s"},{"$f":"+utosi(M180,N180)","v":{"$error":"#VALUE!"}},{"$f":"+$E178","v":"Pa s"},{"$f":"+utosi(O180,P180)","v":{"$error":"#VALUE!"}},{"$f":"+$E178","v":"Pa s"},{"$f":"+utosi(Q180,R180)","v":{"$error":"#VALUE!"}},{"$f":"+$E178","v":"Pa s"},{"$f":"+utosi(S180,T180)","v":{"$error":"#VALUE!"}},{"$f":"+$E178","v":"Pa s"},{"$f":"+utosi(U180,V180)","v":{"$error":"#VALUE!"}},{"$f":"+$E178","v":"Pa s"},{"$f":"+utosi(W180,X180)","v":{"$error":"#VALUE!"}},{"$f":"+$E178","v":"Pa s"}]
[null,30,null,"Unidad Convertida",{"$f":"+utou(F180,F182,E180)","v":{"$error":"#VALUE!"}},null,{"$f":"+utou(H180,H182,G180)","v":{"$error":"#VALUE!"}},null,{"$f":"+utou(J180,J182,I180)","v":{"$error":"#VALUE!"}},null,{"$f":"+utou(L180,L182,K180)","v":{"$error":"#VALUE!"}},null,{"$f":"+utou(N180,N182,M180)","v":{"$error":"#VALUE!"}},null,{"$f":"+utou(P180,P182,O180)","v":{"$error":"#VALUE!"}},null,{"$f":"+utou(R180,R182,Q180)","v":{"$error":"#VALUE!"}},null,{"$f":"+utou(T180,T182,S180)","v":{"$error":"#VALUE!"}},null,{"$f":"+utou(V180,V182,U180)","v":{"$error":"#VALUE!"}},null,{"$f":"+utou(X180,X182,W180)","v":{"$error":"#VALUE!"}}]
[null,30]
[null,31,null,"Volumen",{"$f":"+Factores!E248","v":"m3"},null,{"$f":"+$E184","v":"m3"},null,{"$f":"+$E184","v":"m3"},null,{"$f":"+$E184","v":"m3"},null,{"$f":"+$E184","v":"m3"},null,{"$f":"+$E184","v":"m3"},null,{"$f":"+$E184","v":"m3"},null,{"$f":"+$E184","v":"m3"},null,{"$f":"+$E184","v":"m3"},null,{"$f":"+$E184","v":"m3"}]
[null,31]
[null,31,null,"Unidad a Convertir",15,null,15,null,15,null,15,null,15,null,15,null,15,null,15,null,15,null,15]
[null,31,null,"Unidad SI",{"$f":"+utosi(E186,F186)","v":{"$error":"#VALUE!"}},{"$f":"+$E184","v":"m3"},{"$f":"+utosi(G186,H186)","v":{"$error":"#VALUE!"}},{"$f":"+$E184","v":"m3"},{"$f":"+utosi(I186,J186)","v":{"$error":"#VALUE!"}},{"$f":"+$E184","v":"m3"},{"$f":"+utosi(K186,L186)","v":{"$error":"#VALUE!"}},{"$f":"+$E184","v":"m3"},{"$f":"+utosi(M186,N186)","v":{"$error":"#VALUE!"}},{"$f":"+$E184","v":"m3"},{"$f":"+utosi(O186,P186)","v":{"$error":"#VALUE!"}},{"$f":"+$E184","v":"m3"},{"$f":"+utosi(Q186,R186)","v":{"$error":"#VALUE!"}},{"$f":"+$E184","v":"m3"},{"$f":"+utosi(S186,T186)","v":{"$error":"#VALUE!"}},{"$f":"+$E184","v":"m3"},{"$f":"+utosi(U186,V186)","v":{"$error":"#VALUE!"}},{"$f":"+$E184","v":"m3"},{"$f":"+utosi(W186,X186)","v":{"$error":"#VALUE!"}},{"$f":"+$E184","v":"m3"}]
[null,31,null,"Unidad Convertida",{"$f":"+utou(F186,F188,E186)","v":{"$error":"#VALUE!"}},null,{"$f":"+utou(H186,H188,G186)","v":{"$error":"#VALUE!"}},null,{"$f":"+utou(J186,J188,I186)","v":{"$error":"#VALUE!"}},null,{"$f":"+utou(L186,L188,K186)","v":{"$error":"#VALUE!"}},null,{"$f":"+utou(N186,N188,M186)","v":{"$error":"#VALUE!"}},null,{"$f":"+utou(P186,P188,O186)","v":{"$error":"#VALUE!"}},null,{"$f":"+utou(R186,R188,Q186)","v":{"$error":"#VALUE!"}},null,{"$f":"+utou(T186,T188,S186)","v":{"$error":"#VALUE!"}},null,{"$f":"+utou(V186,V188,U186)","v":{"$error":"#VALUE!"}},null,{"$f":"+utou(X186,X188,W186)","v":{"$error":"#VALUE!"}}]
[null,31]
[null,32,null,"Volumen Específico",{"$f":"+Factores!E256","v":"m3/kg"},null,{"$f":"+$E190","v":"m3/kg"},null,{"$f":"+$E190","v":"m3/kg"},null,{"$f":"+$E190","v":"m3/kg"},null,{"$f":"+$E190","v":"m3/kg"},null,{"$f":"+$E190","v":"m3/kg"},null,{"$f":"+$E190","v":"m3/kg"},null,{"$f":"+$E190","v":"m3/kg"},null,{"$f":"+$E190","v":"m3/kg"},null,{"$f":"+$E190","v":"m3/kg"}]
[null,32]
[null,32,null,"Unidad a Convertir",15,null,15,null,15,null,15,null,15,null,15,null,15,null,15,null,15,null,15]
[null,32,null,"Unidad SI",{"$f":"+utosi(E192,F192)","v":{"$error":"#VALUE!"}},{"$f":"+$E190","v":"m3/kg"},{"$f":"+utosi(G192,H192)","v":{"$error":"#VALUE!"}},{"$f":"+$E190","v":"m3/kg"},{"$f":"+utosi(I192,J192)","v":{"$error":"#VALUE!"}},{"$f":"+$E190","v":"m3/kg"},{"$f":"+utosi(K192,L192)","v":{"$error":"#VALUE!"}},{"$f":"+$E190","v":"m3/kg"},{"$f":"+utosi(M192,N192)","v":{"$error":"#VALUE!"}},{"$f":"+$E190","v":"m3/kg"},{"$f":"+utosi(O192,P192)","v":{"$error":"#VALUE!"}},{"$f":"+$E190","v":"m3/kg"},{"$f":"+utosi(Q192,R192)","v":{"$error":"#VALUE!"}},{"$f":"+$E190","v":"m3/kg"},{"$f":"+utosi(S192,T192)","v":{"$error":"#VALUE!"}},{"$f":"+$E190","v":"m3/kg"},{"$f":"+utosi(U192,V192)","v":{"$error":"#VALUE!"}},{"$f":"+$E190","v":"m3/kg"},{"$f":"+utosi(W192,X192)","v":{"$error":"#VALUE!"}},{"$f":"+$E190","v":"m3/kg"}]
[null,32,null,"Unidad Convertida",{"$f":"+utou(F192,F194,E192)","v":{"$error":"#VALUE!"}},null,{"$f":"+utou(H192,H194,G192)","v":{"$error":"#VALUE!"}},null,{"$f":"+utou(J192,J194,I192)","v":{"$error":"#VALUE!"}},null,{"$f":"+utou(L192,L194,K192)","v":{"$error":"#VALUE!"}},null,{"$f":"+utou(N192,N194,M192)","v":{"$error":"#VALUE!"}},null,{"$f":"+utou(P192,P194,O192)","v":{"$error":"#VALUE!"}},null,{"$f":"+utou(R192,R194,Q192)","v":{"$error":"#VALUE!"}},null,{"$f":"+utou(T192,T194,S192)","v":{"$error":"#VALUE!"}},null,{"$f":"+utou(V192,V194,U192)","v":{"$error":"#VALUE!"}},null,{"$f":"+utou(X192,X194,W192)","v":{"$error":"#VALUE!"}}]
[null,32]

{"sheet":"Factores","index":1,"n_rows":259,"n_cols":5,"rows_kept":259,"cut":false,"hidden":false,"merged":[]}
[]
[null,"Contador","Unidad","Factor de Conversión","Unidades en el SI"]
[]
[null,1,"Aceleración",null,"m/s2"]
[null,{"$f":"IF(ISTEXT(E5),B4+1,B4)","v":1},"m/s2",1]
[null,{"$f":"IF(ISTEXT(E6),B5+1,B5)","v":1},"cm/s2",0.01]
[null,1,"ft/s2",0.30480000000000002]
[null,1,"in/s2",2.539999999997257E-2]
[null,2,"Ángulo",null,"rad"]
[null,2,"rad",1]
[null,2,"°",1.7453292519943299E-2]
[null,2,"´",2.9088820866572201E-4]
[null,2,"\"",4.8481368110953598E-6]
[null,3,"Área",null,"m2"]
[null,3,"m2",1]
[null,3,"dm2",0.01]
[null,3,"cm2",1E-4]
[null,3,"mm2",9.9999999999999995E-7]
[null,3,"yd2",0.83612735999999999]
[null,3,"ft2",9.2903040000000006E-2]
[null,3,"in2",6.4515999999999998E-4]
[null,3,"km2",1000000]
[null,3,"ha",10000]
[null,3,"acre",4046.8560000000002]
[null,3,"mi2",2589988.1103360001]
[null,4,"Calor Específico",null,"J/(kg K)"]
[null,4,"J/(kg K)",1]
[null,4,"kcal/(kg °C)",4186.8]
[null,4,"Btu/(lb °F)",4186.8]
[null,5,"Caudal Másico",null,"kg/s"]
[null,5,"kg/s",1]
[null,5,"kg/min",1.6666666666666666E-2]
[null,5,"kg/h",2.7777777777777778E-4]
[null,5,"lb/s",0.45359237000000002]
[null,5,"lb/min",7.5598728333333299E-3]
[null,5,"lb/h",1.25997880555556E-4]
[null,5,"t/s",1000]
[null,5,"t/min",16.666666666666668]
[null,5,"t/h",0.27777777777777779]
[null,6,"Caudal Molar",null,"mol/s"]
[null,6,"mol/s",1]
[null,6,"mol/min",1.6666666666666666E-2]
[null,6,"mol/h",2.7777777777777778E-4]
[null,6,"kmol/s",1000]
[null,6,"kmol/min",16.666666666666668]
[null,6,"kmol//h",0.27777777777777779]
[null,6,"lbmol/s",0.45359237000000002]
[null,6,"lbmol/min",7.5598728333333299E-3]
[null,6,"lbmol/h",1.25997880555556E-4]
[null,7,"Caudal Volumétrico",null,"m3/s"]
[null,7,"m3/s",1]
[null,7,"m3/min",1.6666666666666666E-2]
[null,7,"m3/h",2.7777777777777778E-4]
[null,7,"m3/d",1.1574074074074073E-5]
[null,7,"L/s",1E-3]
[null,7,"L/min",1.6666666666666667E-5]
[null,7,"L/h",2.7777777777777776E-7]
[null,7,"ft3/s",2.8316846592000001E-2]
[null,7,"ft3/min",4.7194744319999999E-4]
[null,7,"ft3/h",7.8657907200000004E-6]
[null,7,"ft3/d",3.2774127999999998E-7]
[null,7,"USgal/min",6.3090193333333305E-5]
[null,7,"USgal/h",1.05150322222222E-6]
[null,7,"bbl/h",4.4163135333333302E-5]
[null,7,"bpd",1.8401306388888901E-6]
[null,8,"Coeficiente de Flujo de Válvula (CV)",null,"(Pa^-0,5)m3/s"]
[null,8,"(Pa^-0,5)m3/s",1]
[null,8,"(kPa^-0,5)m3/h",2.7777777777777778E-19]
[null,8,"(bar^-0,5)m3/h",2.7777777777777776E-20]
[null,{"$f":"IF(ISTEXT(E70),B69+1,B69)","v":8},"(psi^-0,5)gpm",2.4027777777777775E-20]
[null,9,"Coeficiente de Transferencia de Calor",null,"W/(m2 K)"]
[null,9,"W/(m2 K)",1]
[null,9,"kcal/(h m2 °C)",1.163]
[null,9,"Btu/(h ft2 °F)",5.6782633411134897]
[null,9,"kJ/(h m2 °C)",{"$f":"1/3.6","v":0.27777777777777779}]
[null,10,"Conductividad Térmica",null,"W/(m K)"]
[null,10,"W/(m K)",1]
[null,10,"kcal/(h m °C)",1.163]
[null,10,"Btu in/(h ft2 °F)",0.144227888864283]
[null,10,"Btu/(h ft °F)",1.7307346663713901]
[null,10,"kJ/(h m °C)",{"$f":"1/3.6","v":0.27777777777777779}]
[null,11,"Densidad",null,"kg/m3"]
[null,11,"kg/m3",1]
[null,11,"lb/ft3",16.018463373960099]
[null,11,"lb/USgal",119.826433141379]
[null,11,"lb/bbl",2.8530103128899702]
[null,11,"sp.gr.",998.95]
[null,12,"Diferencia de Temperatura",null,"∆K"]
[null,12,"∆K",1]
[null,12,"∆°C",1]
[null,12,"∆°F",{"$f":"5/9","v":0.55555555555555558}]
[null,12,"∆°R",{"$f":"5/9","v":0.55555555555555558}]
[null,13,"Energía",null,"J"]
[null,13,"J",1]
[null,13,"kJ",1000]
[null,13,"MJ",1000000]
[null,13,"kW h",3600000]
[null,13,"erg",9.9999999999999995E-8]
[null,13,"kcal",4186.8]
[null,13,"cal",4.1867999999999999]
[null,13,"Btu",1055.05585262]
[null,13,"ft lbf",1.3558179483313999]
[null,13,"kgf m",9.8066499999999994]
[null,13,"L atm",101.325]
[null,13,"hp h",2684519.5376961702]
[null,13,"CV h",2647796.4]
[null,13,"hpe h",2685600]
[null,14,"Flujo Másico (Velocidad Másica)",null,"kg/(s m2)"]
[null,14,"kg/(s m2)",1]
[null,14,"kg/(h m2)",2.7777777777777778E-4]
[null,14,"lb/(s ft2)",4.8824276363830501]
[null,14,"lb/(h ft2)",1.3562298989952899E-3]
[null,15,"Frecuencia",null,"rpm"]
[null,15,"1/s",1]
[null,15,"Hz",1]
[null,15,"rpm",1.6666666666666666E-2]
[null,16,"Fuerza",null,"N"]
[null,16,"N",1]
[null,16,"kN",1000]
[null,16,"kgf",9.8066499999999994]
[null,16,"kp",9.8066499999999994]
[null,16,"lbf",4.4482216152604996]
[null,16,"dyne",1.0000000000000001E-5]
[null,17,"Longitud",null,"m"]
[null,17,"m",1]
[null,17,"dm",0.1]
[null,17,"cm",0.01]
[null,17,"mm",1E-3]
[null,17,"µm",9.9999999999999995E-7]
[null,17,"A",1.0000000000000001E-9]
[null,17,"yd",0.91439999999999999]
[null,17,"ft",0.30480000000000002]
[null,17,"in",2.5399999999999999E-2]
[null,{"$f":"IF(ISTEXT(E134),B133+1,B133)","v":17},"km",1000]
[null,17,"mi",1609.3440000000001]
[null,17,"na.mi",1852]
[null,18,"Masa",null,"kg"]
[null,18,"kg",1]
[null,18,"g",1E-3]
[null,18,"mg",9.9999999999999995E-7]
[null,18,"lb",0.45359237000000002]
[null,18,"oz",2.8349523125000001E-2]
[null,18,"t",1000]
[null,18,"tonelada corta",907.18474000000003]
[null,18,"tonelada larga",1016.0469088000001]
[null,19,"Peso Molecular",null,"kg/mol"]
[null,19,"kg/mol",1]
[null,19,"kg/kmol",1E-3]
[null,19,"g/mol",1E-3]
[null,19,"lb/lbmol",1E-3]
[null,19,"lb/mol",0.45359237000000002]
[null,20,"Potencia",null,"W"]
[null,20,"W",1]
[null,20,"kW",1000]
[null,20,"MW",1000000]
[null,20,"CV",735.49900000000002]
[null,20,"hp",745.69987158227002]
[null,20,"kcal/s",4186.8]
[null,20,"kcal/min",69.78]
[null,20,"kcal/h",1.163]
[null,20,"kJ/h",{"$f":"1/3.6","v":0.27777777777777779}]
[null,20,"MJ/h",{"$f":"1000/3.6","v":277.77777777777777}]
[null,20,"Btu/s",1055.05585262]
[null,20,"Btu/min",17.584264210333298]
[null,20,"Btu/h",0.293071070172222]
[null,20,"ft lbf/s",1.3558179483313999]
[null,20,"kgf m/s",9.8066499999999994]
[null,20,"hpe",746]
[null,21,"Potencia por Unidad de Área",null,"W/m2"]
[null,21,"W/m2",1]
[null,21,"kcal/(h m2)",1.163]
[null,21,"Btu/(h ft2)",3.1545907450630502]
[null,22,"Presión",null,"Pa"]
[null,22,"Pa",1]
[null,22,"hPa",100]
[null,22,"kPa",1000]
[null,22,"MPa",1000000]
[null,22,"bar",100000]
[null,22,"kgf/cm2",98066.5]
[null,22,"atm",101325]
[null,22,"mbar",100]
[null,22,"psi",6894.7572931683599]
[null,22,"torr",133.322368421053]
[null,22,"mmHg",133.322368421053]
[null,22,"inHg",3386.3881578947398]
[null,22,"inH2O",249.08199999999999]
[null,22,"ftH2O",2986.2073030562024]
[null,22,"mH2O",9806.65]
[null,22,"mmH2O",9.8066499999999994]
[null,22,"dyn/cm2",0.1]
[null,22,"oz/in2",430.92228332196663]
[null,22,"psf",16.018463373960099]
[null,22,"ksi",6894757.2931690002]
[null,23,"Presión por Unidad de Longitud",null,"Pa/m"]
[null,23,"Pa/m",1]
[null,23,"kgf/cm2/km",98.066500000000005]
[null,23,"psi/100ft",226.205947938615]
[null,{"$f":"IF(ISTEXT(E198),B197+1,B197)","v":23},"bar/km",100]
[null,23,"inH2O/ft",1.31717261585065E-2]
[null,24,"Resistencia Térmica",null,"m2 K/W"]
[null,24,"m2 K/W",1]
[null,24,"h m2 °C/kcal",0.85984522785898498]
[null,24,"h ft2 °F/Btu",0.17611018368230599]
[null,25,"Tensión superficial",null,"N/m"]
[null,25,"N/m",1]
[null,25,"dyn/cm",1E-3]
[null,26,"Temperatura",null,"K"]
[null,26,"K",1]
[null,26,"°C"]
[null,26,"°F"]
[null,26,"°R",{"$f":"5/9","v":0.55555555555555558}]
[null,27,"Tiempo",null,"s"]
[null,27,"s",1]
[null,27,"año",31556925.9747]
[null,27,"d",86400]
[null,27,"h",3600]
[null,27,"min",60]
[null,28,"Velocidad",null,"m/s"]
[null,28,"m/s",1]
[null,28,"m/min",1.6666666666666666E-2]
[null,28,"cm/s",0.01]
[null,28,"ft/s",0.30480000000000002]
[null,28,"ft/min",5.0800000000000003E-3]
[null,28,"km/h",0.27777777777777779]
[null,28,"mi/h",0.44703999999999999]
[null,28,"mm/h",2.7777777777777776E-7]
[null,28,"in/h",7.055555555555555E-6]
[null,28,"mm/año",3.1688764640799999E-11]
[null,28,"in/año",8.0489462187699999E-10]
[null,29,"Viscosidad Cinemática",null,"m2/s"]
[null,29,"m2/s",1]
[null,29,"cSt",9.9999999999999995E-7]
[null,29,"stoke",1E-4]
[null,29,"ft2/s",9.2903040000000006E-2]
[null,29,"ft2/h",2.5806400000000001E-5]
[null,29,"m2/h",2.7777777777777778E-4]
[null,29,"in2/s",6.4515999999999998E-4]
[null,30,"Viscosidad Dinámica",null,"Pa s"]
[null,30,"Pa s",1]
[null,30,"cP",1E-3]
[null,30,"poise",0.1]
[null,30,"µpoise",9.9999999999999995E-8]
[null,30,"lb/ft h",4.1337887321376502E-4]
[null,30,"lb/ft s",1.48816394356955]
[null,30,"lbf s/ft2",47.880258980335803]
[null,30,"kgf s/m2",9.8066499999999994]
[null,30,"kg/m h",2.7777777777777778E-4]
[null,31,"Volumen",null,"m3"]
[null,31,"m3",1]
[null,31,"L",1E-3]
[null,31,"ft3",2.8316846592000001E-2]
[null,31,"in3",1.6387063999999999E-5]
[null,31,"USgal",3.7854116E-3]
[null,31,"Imp.gal",4.5460919999999998E-3]
[null,31,"bbl",0.15898728719999999]
[null,32,"Volumen Específico",null,"m3/kg"]
[null,32,"m3/kg",1]
[null,32,"ft3/lb",6.2427960576144768E-2]
[null,32,"USgal/lb",8.3454040463687602E-3]